BEGIN:VCALENDAR
VERSION:2.0
PRODID:-//Stowe Mission - ECPv6.15.15//NONSGML v1.0//EN
CALSCALE:GREGORIAN
METHOD:PUBLISH
X-ORIGINAL-URL:https://stowemission.org
X-WR-CALDESC:Events for Stowe Mission
REFRESH-INTERVAL;VALUE=DURATION:PT1H
X-Robots-Tag:noindex
X-PUBLISHED-TTL:PT1H
BEGIN:VTIMEZONE
TZID:America/Detroit
BEGIN:DAYLIGHT
TZOFFSETFROM:-0500
TZOFFSETTO:-0400
TZNAME:EDT
DTSTART:20230312T070000
END:DAYLIGHT
BEGIN:STANDARD
TZOFFSETFROM:-0400
TZOFFSETTO:-0500
TZNAME:EST
DTSTART:20231105T060000
END:STANDARD
BEGIN:DAYLIGHT
TZOFFSETFROM:-0500
TZOFFSETTO:-0400
TZNAME:EDT
DTSTART:20240310T070000
END:DAYLIGHT
BEGIN:STANDARD
TZOFFSETFROM:-0400
TZOFFSETTO:-0500
TZNAME:EST
DTSTART:20241103T060000
END:STANDARD
BEGIN:DAYLIGHT
TZOFFSETFROM:-0500
TZOFFSETTO:-0400
TZNAME:EDT
DTSTART:20250309T070000
END:DAYLIGHT
BEGIN:STANDARD
TZOFFSETFROM:-0400
TZOFFSETTO:-0500
TZNAME:EST
DTSTART:20251102T060000
END:STANDARD
END:VTIMEZONE
BEGIN:VEVENT
DTSTART;TZID=America/Detroit:20240923T110000
DTEND;TZID=America/Detroit:20240923T123000
DTSTAMP:20260423T165536
CREATED:20240121T193827Z
LAST-MODIFIED:20240121T193841Z
UID:10005288-1727089200-1727094600@stowemission.org
SUMMARY:Community Kitchen
DESCRIPTION:Join us Monday – Friday every week from 11 – 12:30 pm. Enter on the south side of the building at the Community Kitchen door. \nBesides a nutritious lunch\, the Community Kitchen provides a warm and safe gathering environment. Many of our neighbors have no family connections\, and the dining room is a place to develop friendships and fulfill physical and social needs.
URL:https://stowemission.org/event/free-daily-lunch-2-2/2024-09-23/
LOCATION:Stowe Mission\, 888 Parsons Avenue\, Columbus\, OH\, 43206\, United States
CATEGORIES:Featured,Home,Hunger
ATTACH;FMTTYPE=image/jpeg:https://stowemission.org/wp-content/uploads/2022/11/StoweMissionCommunityKitchenFreeLunch.jpg
END:VEVENT
BEGIN:VEVENT
DTSTART;TZID=America/Detroit:20240920T110000
DTEND;TZID=America/Detroit:20240920T123000
DTSTAMP:20260423T165536
CREATED:20240121T193827Z
LAST-MODIFIED:20240121T193841Z
UID:10005287-1726830000-1726835400@stowemission.org
SUMMARY:Community Kitchen
DESCRIPTION:Join us Monday – Friday every week from 11 – 12:30 pm. Enter on the south side of the building at the Community Kitchen door. \nBesides a nutritious lunch\, the Community Kitchen provides a warm and safe gathering environment. Many of our neighbors have no family connections\, and the dining room is a place to develop friendships and fulfill physical and social needs.
URL:https://stowemission.org/event/free-daily-lunch-2-2/2024-09-20/
LOCATION:Stowe Mission\, 888 Parsons Avenue\, Columbus\, OH\, 43206\, United States
CATEGORIES:Featured,Home,Hunger
ATTACH;FMTTYPE=image/jpeg:https://stowemission.org/wp-content/uploads/2022/11/StoweMissionCommunityKitchenFreeLunch.jpg
END:VEVENT
BEGIN:VEVENT
DTSTART;TZID=America/Detroit:20240919T110000
DTEND;TZID=America/Detroit:20240919T123000
DTSTAMP:20260423T165536
CREATED:20240121T193827Z
LAST-MODIFIED:20240121T193841Z
UID:10005286-1726743600-1726749000@stowemission.org
SUMMARY:Community Kitchen
DESCRIPTION:Join us Monday – Friday every week from 11 – 12:30 pm. Enter on the south side of the building at the Community Kitchen door. \nBesides a nutritious lunch\, the Community Kitchen provides a warm and safe gathering environment. Many of our neighbors have no family connections\, and the dining room is a place to develop friendships and fulfill physical and social needs.
URL:https://stowemission.org/event/free-daily-lunch-2-2/2024-09-19/
LOCATION:Stowe Mission\, 888 Parsons Avenue\, Columbus\, OH\, 43206\, United States
CATEGORIES:Featured,Home,Hunger
ATTACH;FMTTYPE=image/jpeg:https://stowemission.org/wp-content/uploads/2022/11/StoweMissionCommunityKitchenFreeLunch.jpg
END:VEVENT
BEGIN:VEVENT
DTSTART;TZID=America/Detroit:20240918T110000
DTEND;TZID=America/Detroit:20240918T123000
DTSTAMP:20260423T165536
CREATED:20240121T193827Z
LAST-MODIFIED:20240121T193841Z
UID:10005285-1726657200-1726662600@stowemission.org
SUMMARY:Community Kitchen
DESCRIPTION:Join us Monday – Friday every week from 11 – 12:30 pm. Enter on the south side of the building at the Community Kitchen door. \nBesides a nutritious lunch\, the Community Kitchen provides a warm and safe gathering environment. Many of our neighbors have no family connections\, and the dining room is a place to develop friendships and fulfill physical and social needs.
URL:https://stowemission.org/event/free-daily-lunch-2-2/2024-09-18/
LOCATION:Stowe Mission\, 888 Parsons Avenue\, Columbus\, OH\, 43206\, United States
CATEGORIES:Featured,Home,Hunger
ATTACH;FMTTYPE=image/jpeg:https://stowemission.org/wp-content/uploads/2022/11/StoweMissionCommunityKitchenFreeLunch.jpg
END:VEVENT
BEGIN:VEVENT
DTSTART;TZID=America/Detroit:20240917T110000
DTEND;TZID=America/Detroit:20240917T123000
DTSTAMP:20260423T165536
CREATED:20240121T193827Z
LAST-MODIFIED:20240121T193841Z
UID:10005284-1726570800-1726576200@stowemission.org
SUMMARY:Community Kitchen
DESCRIPTION:Join us Monday – Friday every week from 11 – 12:30 pm. Enter on the south side of the building at the Community Kitchen door. \nBesides a nutritious lunch\, the Community Kitchen provides a warm and safe gathering environment. Many of our neighbors have no family connections\, and the dining room is a place to develop friendships and fulfill physical and social needs.
URL:https://stowemission.org/event/free-daily-lunch-2-2/2024-09-17/
LOCATION:Stowe Mission\, 888 Parsons Avenue\, Columbus\, OH\, 43206\, United States
CATEGORIES:Featured,Home,Hunger
ATTACH;FMTTYPE=image/jpeg:https://stowemission.org/wp-content/uploads/2022/11/StoweMissionCommunityKitchenFreeLunch.jpg
END:VEVENT
BEGIN:VEVENT
DTSTART;TZID=America/Detroit:20240916T110000
DTEND;TZID=America/Detroit:20240916T123000
DTSTAMP:20260423T165536
CREATED:20240121T193827Z
LAST-MODIFIED:20240121T193841Z
UID:10005283-1726484400-1726489800@stowemission.org
SUMMARY:Community Kitchen
DESCRIPTION:Join us Monday – Friday every week from 11 – 12:30 pm. Enter on the south side of the building at the Community Kitchen door. \nBesides a nutritious lunch\, the Community Kitchen provides a warm and safe gathering environment. Many of our neighbors have no family connections\, and the dining room is a place to develop friendships and fulfill physical and social needs.
URL:https://stowemission.org/event/free-daily-lunch-2-2/2024-09-16/
LOCATION:Stowe Mission\, 888 Parsons Avenue\, Columbus\, OH\, 43206\, United States
CATEGORIES:Featured,Home,Hunger
ATTACH;FMTTYPE=image/jpeg:https://stowemission.org/wp-content/uploads/2022/11/StoweMissionCommunityKitchenFreeLunch.jpg
END:VEVENT
BEGIN:VEVENT
DTSTART;TZID=America/Detroit:20240913T110000
DTEND;TZID=America/Detroit:20240913T123000
DTSTAMP:20260423T165536
CREATED:20240121T193827Z
LAST-MODIFIED:20240121T193841Z
UID:10005282-1726225200-1726230600@stowemission.org
SUMMARY:Community Kitchen
DESCRIPTION:Join us Monday – Friday every week from 11 – 12:30 pm. Enter on the south side of the building at the Community Kitchen door. \nBesides a nutritious lunch\, the Community Kitchen provides a warm and safe gathering environment. Many of our neighbors have no family connections\, and the dining room is a place to develop friendships and fulfill physical and social needs.
URL:https://stowemission.org/event/free-daily-lunch-2-2/2024-09-13/
LOCATION:Stowe Mission\, 888 Parsons Avenue\, Columbus\, OH\, 43206\, United States
CATEGORIES:Featured,Home,Hunger
ATTACH;FMTTYPE=image/jpeg:https://stowemission.org/wp-content/uploads/2022/11/StoweMissionCommunityKitchenFreeLunch.jpg
END:VEVENT
BEGIN:VEVENT
DTSTART;TZID=America/Detroit:20240912T110000
DTEND;TZID=America/Detroit:20240912T123000
DTSTAMP:20260423T165536
CREATED:20240121T193827Z
LAST-MODIFIED:20240121T193841Z
UID:10005281-1726138800-1726144200@stowemission.org
SUMMARY:Community Kitchen
DESCRIPTION:Join us Monday – Friday every week from 11 – 12:30 pm. Enter on the south side of the building at the Community Kitchen door. \nBesides a nutritious lunch\, the Community Kitchen provides a warm and safe gathering environment. Many of our neighbors have no family connections\, and the dining room is a place to develop friendships and fulfill physical and social needs.
URL:https://stowemission.org/event/free-daily-lunch-2-2/2024-09-12/
LOCATION:Stowe Mission\, 888 Parsons Avenue\, Columbus\, OH\, 43206\, United States
CATEGORIES:Featured,Home,Hunger
ATTACH;FMTTYPE=image/jpeg:https://stowemission.org/wp-content/uploads/2022/11/StoweMissionCommunityKitchenFreeLunch.jpg
END:VEVENT
BEGIN:VEVENT
DTSTART;TZID=America/Detroit:20240911T110000
DTEND;TZID=America/Detroit:20240911T123000
DTSTAMP:20260423T165536
CREATED:20240121T193827Z
LAST-MODIFIED:20240121T193841Z
UID:10005280-1726052400-1726057800@stowemission.org
SUMMARY:Community Kitchen
DESCRIPTION:Join us Monday – Friday every week from 11 – 12:30 pm. Enter on the south side of the building at the Community Kitchen door. \nBesides a nutritious lunch\, the Community Kitchen provides a warm and safe gathering environment. Many of our neighbors have no family connections\, and the dining room is a place to develop friendships and fulfill physical and social needs.
URL:https://stowemission.org/event/free-daily-lunch-2-2/2024-09-11/
LOCATION:Stowe Mission\, 888 Parsons Avenue\, Columbus\, OH\, 43206\, United States
CATEGORIES:Featured,Home,Hunger
ATTACH;FMTTYPE=image/jpeg:https://stowemission.org/wp-content/uploads/2022/11/StoweMissionCommunityKitchenFreeLunch.jpg
END:VEVENT
BEGIN:VEVENT
DTSTART;TZID=America/Detroit:20240910T110000
DTEND;TZID=America/Detroit:20240910T123000
DTSTAMP:20260423T165536
CREATED:20240121T193827Z
LAST-MODIFIED:20240121T193841Z
UID:10005279-1725966000-1725971400@stowemission.org
SUMMARY:Community Kitchen
DESCRIPTION:Join us Monday – Friday every week from 11 – 12:30 pm. Enter on the south side of the building at the Community Kitchen door. \nBesides a nutritious lunch\, the Community Kitchen provides a warm and safe gathering environment. Many of our neighbors have no family connections\, and the dining room is a place to develop friendships and fulfill physical and social needs.
URL:https://stowemission.org/event/free-daily-lunch-2-2/2024-09-10/
LOCATION:Stowe Mission\, 888 Parsons Avenue\, Columbus\, OH\, 43206\, United States
CATEGORIES:Featured,Home,Hunger
ATTACH;FMTTYPE=image/jpeg:https://stowemission.org/wp-content/uploads/2022/11/StoweMissionCommunityKitchenFreeLunch.jpg
END:VEVENT
BEGIN:VEVENT
DTSTART;TZID=America/Detroit:20240909T110000
DTEND;TZID=America/Detroit:20240909T123000
DTSTAMP:20260423T165536
CREATED:20240121T193827Z
LAST-MODIFIED:20240121T193841Z
UID:10005278-1725879600-1725885000@stowemission.org
SUMMARY:Community Kitchen
DESCRIPTION:Join us Monday – Friday every week from 11 – 12:30 pm. Enter on the south side of the building at the Community Kitchen door. \nBesides a nutritious lunch\, the Community Kitchen provides a warm and safe gathering environment. Many of our neighbors have no family connections\, and the dining room is a place to develop friendships and fulfill physical and social needs.
URL:https://stowemission.org/event/free-daily-lunch-2-2/2024-09-09/
LOCATION:Stowe Mission\, 888 Parsons Avenue\, Columbus\, OH\, 43206\, United States
CATEGORIES:Featured,Home,Hunger
ATTACH;FMTTYPE=image/jpeg:https://stowemission.org/wp-content/uploads/2022/11/StoweMissionCommunityKitchenFreeLunch.jpg
END:VEVENT
BEGIN:VEVENT
DTSTART;TZID=America/Detroit:20240906T110000
DTEND;TZID=America/Detroit:20240906T123000
DTSTAMP:20260423T165536
CREATED:20240121T193827Z
LAST-MODIFIED:20240121T193841Z
UID:10005277-1725620400-1725625800@stowemission.org
SUMMARY:Community Kitchen
DESCRIPTION:Join us Monday – Friday every week from 11 – 12:30 pm. Enter on the south side of the building at the Community Kitchen door. \nBesides a nutritious lunch\, the Community Kitchen provides a warm and safe gathering environment. Many of our neighbors have no family connections\, and the dining room is a place to develop friendships and fulfill physical and social needs.
URL:https://stowemission.org/event/free-daily-lunch-2-2/2024-09-06/
LOCATION:Stowe Mission\, 888 Parsons Avenue\, Columbus\, OH\, 43206\, United States
CATEGORIES:Featured,Home,Hunger
ATTACH;FMTTYPE=image/jpeg:https://stowemission.org/wp-content/uploads/2022/11/StoweMissionCommunityKitchenFreeLunch.jpg
END:VEVENT
BEGIN:VEVENT
DTSTART;TZID=America/Detroit:20240905T110000
DTEND;TZID=America/Detroit:20240905T123000
DTSTAMP:20260423T165536
CREATED:20240121T193827Z
LAST-MODIFIED:20240121T193841Z
UID:10005276-1725534000-1725539400@stowemission.org
SUMMARY:Community Kitchen
DESCRIPTION:Join us Monday – Friday every week from 11 – 12:30 pm. Enter on the south side of the building at the Community Kitchen door. \nBesides a nutritious lunch\, the Community Kitchen provides a warm and safe gathering environment. Many of our neighbors have no family connections\, and the dining room is a place to develop friendships and fulfill physical and social needs.
URL:https://stowemission.org/event/free-daily-lunch-2-2/2024-09-05/
LOCATION:Stowe Mission\, 888 Parsons Avenue\, Columbus\, OH\, 43206\, United States
CATEGORIES:Featured,Home,Hunger
ATTACH;FMTTYPE=image/jpeg:https://stowemission.org/wp-content/uploads/2022/11/StoweMissionCommunityKitchenFreeLunch.jpg
END:VEVENT
BEGIN:VEVENT
DTSTART;TZID=America/Detroit:20240904T110000
DTEND;TZID=America/Detroit:20240904T123000
DTSTAMP:20260423T165536
CREATED:20240121T193827Z
LAST-MODIFIED:20240121T193841Z
UID:10005275-1725447600-1725453000@stowemission.org
SUMMARY:Community Kitchen
DESCRIPTION:Join us Monday – Friday every week from 11 – 12:30 pm. Enter on the south side of the building at the Community Kitchen door. \nBesides a nutritious lunch\, the Community Kitchen provides a warm and safe gathering environment. Many of our neighbors have no family connections\, and the dining room is a place to develop friendships and fulfill physical and social needs.
URL:https://stowemission.org/event/free-daily-lunch-2-2/2024-09-04/
LOCATION:Stowe Mission\, 888 Parsons Avenue\, Columbus\, OH\, 43206\, United States
CATEGORIES:Featured,Home,Hunger
ATTACH;FMTTYPE=image/jpeg:https://stowemission.org/wp-content/uploads/2022/11/StoweMissionCommunityKitchenFreeLunch.jpg
END:VEVENT
BEGIN:VEVENT
DTSTART;TZID=America/Detroit:20240903T110000
DTEND;TZID=America/Detroit:20240903T123000
DTSTAMP:20260423T165536
CREATED:20240121T193827Z
LAST-MODIFIED:20240121T193841Z
UID:10005274-1725361200-1725366600@stowemission.org
SUMMARY:Community Kitchen
DESCRIPTION:Join us Monday – Friday every week from 11 – 12:30 pm. Enter on the south side of the building at the Community Kitchen door. \nBesides a nutritious lunch\, the Community Kitchen provides a warm and safe gathering environment. Many of our neighbors have no family connections\, and the dining room is a place to develop friendships and fulfill physical and social needs.
URL:https://stowemission.org/event/free-daily-lunch-2-2/2024-09-03/
LOCATION:Stowe Mission\, 888 Parsons Avenue\, Columbus\, OH\, 43206\, United States
CATEGORIES:Featured,Home,Hunger
ATTACH;FMTTYPE=image/jpeg:https://stowemission.org/wp-content/uploads/2022/11/StoweMissionCommunityKitchenFreeLunch.jpg
END:VEVENT
BEGIN:VEVENT
DTSTART;TZID=America/Detroit:20240902T110000
DTEND;TZID=America/Detroit:20240902T123000
DTSTAMP:20260423T165536
CREATED:20240121T193827Z
LAST-MODIFIED:20240121T193841Z
UID:10005273-1725274800-1725280200@stowemission.org
SUMMARY:Community Kitchen
DESCRIPTION:Join us Monday – Friday every week from 11 – 12:30 pm. Enter on the south side of the building at the Community Kitchen door. \nBesides a nutritious lunch\, the Community Kitchen provides a warm and safe gathering environment. Many of our neighbors have no family connections\, and the dining room is a place to develop friendships and fulfill physical and social needs.
URL:https://stowemission.org/event/free-daily-lunch-2-2/2024-09-02/
LOCATION:Stowe Mission\, 888 Parsons Avenue\, Columbus\, OH\, 43206\, United States
CATEGORIES:Featured,Home,Hunger
ATTACH;FMTTYPE=image/jpeg:https://stowemission.org/wp-content/uploads/2022/11/StoweMissionCommunityKitchenFreeLunch.jpg
END:VEVENT
BEGIN:VEVENT
DTSTART;TZID=America/Detroit:20240830T110000
DTEND;TZID=America/Detroit:20240830T123000
DTSTAMP:20260423T165536
CREATED:20240121T193827Z
LAST-MODIFIED:20240121T193841Z
UID:10005272-1725015600-1725021000@stowemission.org
SUMMARY:Community Kitchen
DESCRIPTION:Join us Monday – Friday every week from 11 – 12:30 pm. Enter on the south side of the building at the Community Kitchen door. \nBesides a nutritious lunch\, the Community Kitchen provides a warm and safe gathering environment. Many of our neighbors have no family connections\, and the dining room is a place to develop friendships and fulfill physical and social needs.
URL:https://stowemission.org/event/free-daily-lunch-2-2/2024-08-30/
LOCATION:Stowe Mission\, 888 Parsons Avenue\, Columbus\, OH\, 43206\, United States
CATEGORIES:Featured,Home,Hunger
ATTACH;FMTTYPE=image/jpeg:https://stowemission.org/wp-content/uploads/2022/11/StoweMissionCommunityKitchenFreeLunch.jpg
END:VEVENT
BEGIN:VEVENT
DTSTART;TZID=America/Detroit:20240829T110000
DTEND;TZID=America/Detroit:20240829T123000
DTSTAMP:20260423T165536
CREATED:20240121T193827Z
LAST-MODIFIED:20240121T193841Z
UID:10005271-1724929200-1724934600@stowemission.org
SUMMARY:Community Kitchen
DESCRIPTION:Join us Monday – Friday every week from 11 – 12:30 pm. Enter on the south side of the building at the Community Kitchen door. \nBesides a nutritious lunch\, the Community Kitchen provides a warm and safe gathering environment. Many of our neighbors have no family connections\, and the dining room is a place to develop friendships and fulfill physical and social needs.
URL:https://stowemission.org/event/free-daily-lunch-2-2/2024-08-29/
LOCATION:Stowe Mission\, 888 Parsons Avenue\, Columbus\, OH\, 43206\, United States
CATEGORIES:Featured,Home,Hunger
ATTACH;FMTTYPE=image/jpeg:https://stowemission.org/wp-content/uploads/2022/11/StoweMissionCommunityKitchenFreeLunch.jpg
END:VEVENT
BEGIN:VEVENT
DTSTART;TZID=America/Detroit:20240828T110000
DTEND;TZID=America/Detroit:20240828T123000
DTSTAMP:20260423T165536
CREATED:20240121T193827Z
LAST-MODIFIED:20240121T193841Z
UID:10005270-1724842800-1724848200@stowemission.org
SUMMARY:Community Kitchen
DESCRIPTION:Join us Monday – Friday every week from 11 – 12:30 pm. Enter on the south side of the building at the Community Kitchen door. \nBesides a nutritious lunch\, the Community Kitchen provides a warm and safe gathering environment. Many of our neighbors have no family connections\, and the dining room is a place to develop friendships and fulfill physical and social needs.
URL:https://stowemission.org/event/free-daily-lunch-2-2/2024-08-28/
LOCATION:Stowe Mission\, 888 Parsons Avenue\, Columbus\, OH\, 43206\, United States
CATEGORIES:Featured,Home,Hunger
ATTACH;FMTTYPE=image/jpeg:https://stowemission.org/wp-content/uploads/2022/11/StoweMissionCommunityKitchenFreeLunch.jpg
END:VEVENT
BEGIN:VEVENT
DTSTART;TZID=America/Detroit:20240827T170000
DTEND;TZID=America/Detroit:20240827T190000
DTSTAMP:20260423T165536
CREATED:20240725T214705Z
LAST-MODIFIED:20240726T141716Z
UID:10008175-1724778000-1724785200@stowemission.org
SUMMARY:August Block Party
DESCRIPTION:Join us Tuesday\, August 27th from 5-7pm at 888 Parsons Ave.! Fun\, food\, games\, raffles and more! This is our last one of the Summer and you do not want to miss it!
URL:https://stowemission.org/event/august-block-party/
LOCATION:Stowe Mission\, 888 Parsons Avenue\, Columbus\, OH\, 43206\, United States
ATTACH;FMTTYPE=image/jpeg:https://stowemission.org/wp-content/uploads/2024/07/BlockParty-August2024-Web.jpg
END:VEVENT
BEGIN:VEVENT
DTSTART;TZID=America/Detroit:20240827T110000
DTEND;TZID=America/Detroit:20240827T123000
DTSTAMP:20260423T165536
CREATED:20240121T193827Z
LAST-MODIFIED:20240121T193841Z
UID:10005269-1724756400-1724761800@stowemission.org
SUMMARY:Community Kitchen
DESCRIPTION:Join us Monday – Friday every week from 11 – 12:30 pm. Enter on the south side of the building at the Community Kitchen door. \nBesides a nutritious lunch\, the Community Kitchen provides a warm and safe gathering environment. Many of our neighbors have no family connections\, and the dining room is a place to develop friendships and fulfill physical and social needs.
URL:https://stowemission.org/event/free-daily-lunch-2-2/2024-08-27/
LOCATION:Stowe Mission\, 888 Parsons Avenue\, Columbus\, OH\, 43206\, United States
CATEGORIES:Featured,Home,Hunger
ATTACH;FMTTYPE=image/jpeg:https://stowemission.org/wp-content/uploads/2022/11/StoweMissionCommunityKitchenFreeLunch.jpg
END:VEVENT
BEGIN:VEVENT
DTSTART;TZID=America/Detroit:20240826T110000
DTEND;TZID=America/Detroit:20240826T123000
DTSTAMP:20260423T165536
CREATED:20240121T193827Z
LAST-MODIFIED:20240121T193841Z
UID:10005268-1724670000-1724675400@stowemission.org
SUMMARY:Community Kitchen
DESCRIPTION:Join us Monday – Friday every week from 11 – 12:30 pm. Enter on the south side of the building at the Community Kitchen door. \nBesides a nutritious lunch\, the Community Kitchen provides a warm and safe gathering environment. Many of our neighbors have no family connections\, and the dining room is a place to develop friendships and fulfill physical and social needs.
URL:https://stowemission.org/event/free-daily-lunch-2-2/2024-08-26/
LOCATION:Stowe Mission\, 888 Parsons Avenue\, Columbus\, OH\, 43206\, United States
CATEGORIES:Featured,Home,Hunger
ATTACH;FMTTYPE=image/jpeg:https://stowemission.org/wp-content/uploads/2022/11/StoweMissionCommunityKitchenFreeLunch.jpg
END:VEVENT
BEGIN:VEVENT
DTSTART;TZID=America/Detroit:20240823T110000
DTEND;TZID=America/Detroit:20240823T123000
DTSTAMP:20260423T165536
CREATED:20240121T193827Z
LAST-MODIFIED:20240121T193841Z
UID:10005267-1724410800-1724416200@stowemission.org
SUMMARY:Community Kitchen
DESCRIPTION:Join us Monday – Friday every week from 11 – 12:30 pm. Enter on the south side of the building at the Community Kitchen door. \nBesides a nutritious lunch\, the Community Kitchen provides a warm and safe gathering environment. Many of our neighbors have no family connections\, and the dining room is a place to develop friendships and fulfill physical and social needs.
URL:https://stowemission.org/event/free-daily-lunch-2-2/2024-08-23/
LOCATION:Stowe Mission\, 888 Parsons Avenue\, Columbus\, OH\, 43206\, United States
CATEGORIES:Featured,Home,Hunger
ATTACH;FMTTYPE=image/jpeg:https://stowemission.org/wp-content/uploads/2022/11/StoweMissionCommunityKitchenFreeLunch.jpg
END:VEVENT
BEGIN:VEVENT
DTSTART;TZID=America/Detroit:20240822T110000
DTEND;TZID=America/Detroit:20240822T123000
DTSTAMP:20260423T165536
CREATED:20240121T193827Z
LAST-MODIFIED:20240121T193841Z
UID:10005266-1724324400-1724329800@stowemission.org
SUMMARY:Community Kitchen
DESCRIPTION:Join us Monday – Friday every week from 11 – 12:30 pm. Enter on the south side of the building at the Community Kitchen door. \nBesides a nutritious lunch\, the Community Kitchen provides a warm and safe gathering environment. Many of our neighbors have no family connections\, and the dining room is a place to develop friendships and fulfill physical and social needs.
URL:https://stowemission.org/event/free-daily-lunch-2-2/2024-08-22/
LOCATION:Stowe Mission\, 888 Parsons Avenue\, Columbus\, OH\, 43206\, United States
CATEGORIES:Featured,Home,Hunger
ATTACH;FMTTYPE=image/jpeg:https://stowemission.org/wp-content/uploads/2022/11/StoweMissionCommunityKitchenFreeLunch.jpg
END:VEVENT
BEGIN:VEVENT
DTSTART;TZID=America/Detroit:20240821T110000
DTEND;TZID=America/Detroit:20240821T123000
DTSTAMP:20260423T165536
CREATED:20240121T193827Z
LAST-MODIFIED:20240121T193841Z
UID:10005265-1724238000-1724243400@stowemission.org
SUMMARY:Community Kitchen
DESCRIPTION:Join us Monday – Friday every week from 11 – 12:30 pm. Enter on the south side of the building at the Community Kitchen door. \nBesides a nutritious lunch\, the Community Kitchen provides a warm and safe gathering environment. Many of our neighbors have no family connections\, and the dining room is a place to develop friendships and fulfill physical and social needs.
URL:https://stowemission.org/event/free-daily-lunch-2-2/2024-08-21/
LOCATION:Stowe Mission\, 888 Parsons Avenue\, Columbus\, OH\, 43206\, United States
CATEGORIES:Featured,Home,Hunger
ATTACH;FMTTYPE=image/jpeg:https://stowemission.org/wp-content/uploads/2022/11/StoweMissionCommunityKitchenFreeLunch.jpg
END:VEVENT
BEGIN:VEVENT
DTSTART;TZID=America/Detroit:20240820T110000
DTEND;TZID=America/Detroit:20240820T123000
DTSTAMP:20260423T165536
CREATED:20240121T193827Z
LAST-MODIFIED:20240121T193841Z
UID:10005264-1724151600-1724157000@stowemission.org
SUMMARY:Community Kitchen
DESCRIPTION:Join us Monday – Friday every week from 11 – 12:30 pm. Enter on the south side of the building at the Community Kitchen door. \nBesides a nutritious lunch\, the Community Kitchen provides a warm and safe gathering environment. Many of our neighbors have no family connections\, and the dining room is a place to develop friendships and fulfill physical and social needs.
URL:https://stowemission.org/event/free-daily-lunch-2-2/2024-08-20/
LOCATION:Stowe Mission\, 888 Parsons Avenue\, Columbus\, OH\, 43206\, United States
CATEGORIES:Featured,Home,Hunger
ATTACH;FMTTYPE=image/jpeg:https://stowemission.org/wp-content/uploads/2022/11/StoweMissionCommunityKitchenFreeLunch.jpg
END:VEVENT
BEGIN:VEVENT
DTSTART;TZID=America/Detroit:20240819T110000
DTEND;TZID=America/Detroit:20240819T123000
DTSTAMP:20260423T165536
CREATED:20240121T193827Z
LAST-MODIFIED:20240121T193841Z
UID:10005263-1724065200-1724070600@stowemission.org
SUMMARY:Community Kitchen
DESCRIPTION:Join us Monday – Friday every week from 11 – 12:30 pm. Enter on the south side of the building at the Community Kitchen door. \nBesides a nutritious lunch\, the Community Kitchen provides a warm and safe gathering environment. Many of our neighbors have no family connections\, and the dining room is a place to develop friendships and fulfill physical and social needs.
URL:https://stowemission.org/event/free-daily-lunch-2-2/2024-08-19/
LOCATION:Stowe Mission\, 888 Parsons Avenue\, Columbus\, OH\, 43206\, United States
CATEGORIES:Featured,Home,Hunger
ATTACH;FMTTYPE=image/jpeg:https://stowemission.org/wp-content/uploads/2022/11/StoweMissionCommunityKitchenFreeLunch.jpg
END:VEVENT
BEGIN:VEVENT
DTSTART;TZID=America/Detroit:20240816T110000
DTEND;TZID=America/Detroit:20240816T123000
DTSTAMP:20260423T165536
CREATED:20240121T193827Z
LAST-MODIFIED:20240121T193841Z
UID:10005262-1723806000-1723811400@stowemission.org
SUMMARY:Community Kitchen
DESCRIPTION:Join us Monday – Friday every week from 11 – 12:30 pm. Enter on the south side of the building at the Community Kitchen door. \nBesides a nutritious lunch\, the Community Kitchen provides a warm and safe gathering environment. Many of our neighbors have no family connections\, and the dining room is a place to develop friendships and fulfill physical and social needs.
URL:https://stowemission.org/event/free-daily-lunch-2-2/2024-08-16/
LOCATION:Stowe Mission\, 888 Parsons Avenue\, Columbus\, OH\, 43206\, United States
CATEGORIES:Featured,Home,Hunger
ATTACH;FMTTYPE=image/jpeg:https://stowemission.org/wp-content/uploads/2022/11/StoweMissionCommunityKitchenFreeLunch.jpg
END:VEVENT
BEGIN:VEVENT
DTSTART;TZID=America/Detroit:20240815T110000
DTEND;TZID=America/Detroit:20240815T123000
DTSTAMP:20260423T165536
CREATED:20240121T193827Z
LAST-MODIFIED:20240121T193841Z
UID:10005261-1723719600-1723725000@stowemission.org
SUMMARY:Community Kitchen
DESCRIPTION:Join us Monday – Friday every week from 11 – 12:30 pm. Enter on the south side of the building at the Community Kitchen door. \nBesides a nutritious lunch\, the Community Kitchen provides a warm and safe gathering environment. Many of our neighbors have no family connections\, and the dining room is a place to develop friendships and fulfill physical and social needs.
URL:https://stowemission.org/event/free-daily-lunch-2-2/2024-08-15/
LOCATION:Stowe Mission\, 888 Parsons Avenue\, Columbus\, OH\, 43206\, United States
CATEGORIES:Featured,Home,Hunger
ATTACH;FMTTYPE=image/jpeg:https://stowemission.org/wp-content/uploads/2022/11/StoweMissionCommunityKitchenFreeLunch.jpg
END:VEVENT
BEGIN:VEVENT
DTSTART;TZID=America/Detroit:20240814T110000
DTEND;TZID=America/Detroit:20240814T123000
DTSTAMP:20260423T165536
CREATED:20240121T193827Z
LAST-MODIFIED:20240121T193841Z
UID:10005260-1723633200-1723638600@stowemission.org
SUMMARY:Community Kitchen
DESCRIPTION:Join us Monday – Friday every week from 11 – 12:30 pm. Enter on the south side of the building at the Community Kitchen door. \nBesides a nutritious lunch\, the Community Kitchen provides a warm and safe gathering environment. Many of our neighbors have no family connections\, and the dining room is a place to develop friendships and fulfill physical and social needs.
URL:https://stowemission.org/event/free-daily-lunch-2-2/2024-08-14/
LOCATION:Stowe Mission\, 888 Parsons Avenue\, Columbus\, OH\, 43206\, United States
CATEGORIES:Featured,Home,Hunger
ATTACH;FMTTYPE=image/jpeg:https://stowemission.org/wp-content/uploads/2022/11/StoweMissionCommunityKitchenFreeLunch.jpg
END:VEVENT
END:VCALENDAR