BEGIN:VCALENDAR
VERSION:2.0
PRODID:-//Stowe Mission - ECPv6.15.15//NONSGML v1.0//EN
CALSCALE:GREGORIAN
METHOD:PUBLISH
X-WR-CALNAME:Stowe Mission
X-ORIGINAL-URL:https://stowemission.org
X-WR-CALDESC:Events for Stowe Mission
REFRESH-INTERVAL;VALUE=DURATION:PT1H
X-Robots-Tag:noindex
X-PUBLISHED-TTL:PT1H
BEGIN:VTIMEZONE
TZID:America/Detroit
BEGIN:DAYLIGHT
TZOFFSETFROM:-0500
TZOFFSETTO:-0400
TZNAME:EDT
DTSTART:20230312T070000
END:DAYLIGHT
BEGIN:STANDARD
TZOFFSETFROM:-0400
TZOFFSETTO:-0500
TZNAME:EST
DTSTART:20231105T060000
END:STANDARD
BEGIN:DAYLIGHT
TZOFFSETFROM:-0500
TZOFFSETTO:-0400
TZNAME:EDT
DTSTART:20240310T070000
END:DAYLIGHT
BEGIN:STANDARD
TZOFFSETFROM:-0400
TZOFFSETTO:-0500
TZNAME:EST
DTSTART:20241103T060000
END:STANDARD
BEGIN:DAYLIGHT
TZOFFSETFROM:-0500
TZOFFSETTO:-0400
TZNAME:EDT
DTSTART:20250309T070000
END:DAYLIGHT
BEGIN:STANDARD
TZOFFSETFROM:-0400
TZOFFSETTO:-0500
TZNAME:EST
DTSTART:20251102T060000
END:STANDARD
END:VTIMEZONE
BEGIN:VEVENT
DTSTART;TZID=America/Detroit:20240821T110000
DTEND;TZID=America/Detroit:20240821T123000
DTSTAMP:20260423T194628
CREATED:20240121T193827Z
LAST-MODIFIED:20240121T193841Z
UID:10005265-1724238000-1724243400@stowemission.org
SUMMARY:Community Kitchen
DESCRIPTION:Join us Monday – Friday every week from 11 – 12:30 pm. Enter on the south side of the building at the Community Kitchen door. \nBesides a nutritious lunch\, the Community Kitchen provides a warm and safe gathering environment. Many of our neighbors have no family connections\, and the dining room is a place to develop friendships and fulfill physical and social needs.
URL:https://stowemission.org/event/free-daily-lunch-2-2/2024-08-21/
LOCATION:Stowe Mission\, 888 Parsons Avenue\, Columbus\, OH\, 43206\, United States
CATEGORIES:Featured,Home,Hunger
ATTACH;FMTTYPE=image/jpeg:https://stowemission.org/wp-content/uploads/2022/11/StoweMissionCommunityKitchenFreeLunch.jpg
END:VEVENT
BEGIN:VEVENT
DTSTART;TZID=America/Detroit:20240820T110000
DTEND;TZID=America/Detroit:20240820T123000
DTSTAMP:20260423T194628
CREATED:20240121T193827Z
LAST-MODIFIED:20240121T193841Z
UID:10005264-1724151600-1724157000@stowemission.org
SUMMARY:Community Kitchen
DESCRIPTION:Join us Monday – Friday every week from 11 – 12:30 pm. Enter on the south side of the building at the Community Kitchen door. \nBesides a nutritious lunch\, the Community Kitchen provides a warm and safe gathering environment. Many of our neighbors have no family connections\, and the dining room is a place to develop friendships and fulfill physical and social needs.
URL:https://stowemission.org/event/free-daily-lunch-2-2/2024-08-20/
LOCATION:Stowe Mission\, 888 Parsons Avenue\, Columbus\, OH\, 43206\, United States
CATEGORIES:Featured,Home,Hunger
ATTACH;FMTTYPE=image/jpeg:https://stowemission.org/wp-content/uploads/2022/11/StoweMissionCommunityKitchenFreeLunch.jpg
END:VEVENT
BEGIN:VEVENT
DTSTART;TZID=America/Detroit:20240819T110000
DTEND;TZID=America/Detroit:20240819T123000
DTSTAMP:20260423T194628
CREATED:20240121T193827Z
LAST-MODIFIED:20240121T193841Z
UID:10005263-1724065200-1724070600@stowemission.org
SUMMARY:Community Kitchen
DESCRIPTION:Join us Monday – Friday every week from 11 – 12:30 pm. Enter on the south side of the building at the Community Kitchen door. \nBesides a nutritious lunch\, the Community Kitchen provides a warm and safe gathering environment. Many of our neighbors have no family connections\, and the dining room is a place to develop friendships and fulfill physical and social needs.
URL:https://stowemission.org/event/free-daily-lunch-2-2/2024-08-19/
LOCATION:Stowe Mission\, 888 Parsons Avenue\, Columbus\, OH\, 43206\, United States
CATEGORIES:Featured,Home,Hunger
ATTACH;FMTTYPE=image/jpeg:https://stowemission.org/wp-content/uploads/2022/11/StoweMissionCommunityKitchenFreeLunch.jpg
END:VEVENT
BEGIN:VEVENT
DTSTART;TZID=America/Detroit:20240816T110000
DTEND;TZID=America/Detroit:20240816T123000
DTSTAMP:20260423T194628
CREATED:20240121T193827Z
LAST-MODIFIED:20240121T193841Z
UID:10005262-1723806000-1723811400@stowemission.org
SUMMARY:Community Kitchen
DESCRIPTION:Join us Monday – Friday every week from 11 – 12:30 pm. Enter on the south side of the building at the Community Kitchen door. \nBesides a nutritious lunch\, the Community Kitchen provides a warm and safe gathering environment. Many of our neighbors have no family connections\, and the dining room is a place to develop friendships and fulfill physical and social needs.
URL:https://stowemission.org/event/free-daily-lunch-2-2/2024-08-16/
LOCATION:Stowe Mission\, 888 Parsons Avenue\, Columbus\, OH\, 43206\, United States
CATEGORIES:Featured,Home,Hunger
ATTACH;FMTTYPE=image/jpeg:https://stowemission.org/wp-content/uploads/2022/11/StoweMissionCommunityKitchenFreeLunch.jpg
END:VEVENT
BEGIN:VEVENT
DTSTART;TZID=America/Detroit:20240815T110000
DTEND;TZID=America/Detroit:20240815T123000
DTSTAMP:20260423T194628
CREATED:20240121T193827Z
LAST-MODIFIED:20240121T193841Z
UID:10005261-1723719600-1723725000@stowemission.org
SUMMARY:Community Kitchen
DESCRIPTION:Join us Monday – Friday every week from 11 – 12:30 pm. Enter on the south side of the building at the Community Kitchen door. \nBesides a nutritious lunch\, the Community Kitchen provides a warm and safe gathering environment. Many of our neighbors have no family connections\, and the dining room is a place to develop friendships and fulfill physical and social needs.
URL:https://stowemission.org/event/free-daily-lunch-2-2/2024-08-15/
LOCATION:Stowe Mission\, 888 Parsons Avenue\, Columbus\, OH\, 43206\, United States
CATEGORIES:Featured,Home,Hunger
ATTACH;FMTTYPE=image/jpeg:https://stowemission.org/wp-content/uploads/2022/11/StoweMissionCommunityKitchenFreeLunch.jpg
END:VEVENT
BEGIN:VEVENT
DTSTART;TZID=America/Detroit:20240814T110000
DTEND;TZID=America/Detroit:20240814T123000
DTSTAMP:20260423T194628
CREATED:20240121T193827Z
LAST-MODIFIED:20240121T193841Z
UID:10005260-1723633200-1723638600@stowemission.org
SUMMARY:Community Kitchen
DESCRIPTION:Join us Monday – Friday every week from 11 – 12:30 pm. Enter on the south side of the building at the Community Kitchen door. \nBesides a nutritious lunch\, the Community Kitchen provides a warm and safe gathering environment. Many of our neighbors have no family connections\, and the dining room is a place to develop friendships and fulfill physical and social needs.
URL:https://stowemission.org/event/free-daily-lunch-2-2/2024-08-14/
LOCATION:Stowe Mission\, 888 Parsons Avenue\, Columbus\, OH\, 43206\, United States
CATEGORIES:Featured,Home,Hunger
ATTACH;FMTTYPE=image/jpeg:https://stowemission.org/wp-content/uploads/2022/11/StoweMissionCommunityKitchenFreeLunch.jpg
END:VEVENT
BEGIN:VEVENT
DTSTART;TZID=America/Detroit:20240813T110000
DTEND;TZID=America/Detroit:20240813T123000
DTSTAMP:20260423T194628
CREATED:20240121T193827Z
LAST-MODIFIED:20240121T193841Z
UID:10005259-1723546800-1723552200@stowemission.org
SUMMARY:Community Kitchen
DESCRIPTION:Join us Monday – Friday every week from 11 – 12:30 pm. Enter on the south side of the building at the Community Kitchen door. \nBesides a nutritious lunch\, the Community Kitchen provides a warm and safe gathering environment. Many of our neighbors have no family connections\, and the dining room is a place to develop friendships and fulfill physical and social needs.
URL:https://stowemission.org/event/free-daily-lunch-2-2/2024-08-13/
LOCATION:Stowe Mission\, 888 Parsons Avenue\, Columbus\, OH\, 43206\, United States
CATEGORIES:Featured,Home,Hunger
ATTACH;FMTTYPE=image/jpeg:https://stowemission.org/wp-content/uploads/2022/11/StoweMissionCommunityKitchenFreeLunch.jpg
END:VEVENT
BEGIN:VEVENT
DTSTART;TZID=America/Detroit:20240812T110000
DTEND;TZID=America/Detroit:20240812T123000
DTSTAMP:20260423T194628
CREATED:20240121T193827Z
LAST-MODIFIED:20240121T193841Z
UID:10005258-1723460400-1723465800@stowemission.org
SUMMARY:Community Kitchen
DESCRIPTION:Join us Monday – Friday every week from 11 – 12:30 pm. Enter on the south side of the building at the Community Kitchen door. \nBesides a nutritious lunch\, the Community Kitchen provides a warm and safe gathering environment. Many of our neighbors have no family connections\, and the dining room is a place to develop friendships and fulfill physical and social needs.
URL:https://stowemission.org/event/free-daily-lunch-2-2/2024-08-12/
LOCATION:Stowe Mission\, 888 Parsons Avenue\, Columbus\, OH\, 43206\, United States
CATEGORIES:Featured,Home,Hunger
ATTACH;FMTTYPE=image/jpeg:https://stowemission.org/wp-content/uploads/2022/11/StoweMissionCommunityKitchenFreeLunch.jpg
END:VEVENT
BEGIN:VEVENT
DTSTART;TZID=America/Detroit:20240810T090000
DTEND;TZID=America/Detroit:20240810T120000
DTSTAMP:20260423T194628
CREATED:20240722T161745Z
LAST-MODIFIED:20240725T200656Z
UID:10008171-1723280400-1723291200@stowemission.org
SUMMARY:Backpack Giveaway on Parsons Ave.
DESCRIPTION:Join us at Stowe Mission – 888 Parsons Ave. for our annual Backpack Giveaway! You MUST register in advance to receive a bag.  \n— We have 2 locations this year so make sure you register at the correct location for you!
URL:https://stowemission.org/event/backpack-giveaway/
LOCATION:Stowe Mission\, 888 Parsons Avenue\, Columbus\, OH\, 43206\, United States
ATTACH;FMTTYPE=image/jpeg:https://stowemission.org/wp-content/uploads/2024/07/Stowe-BackPackGiveaway-Website1-scaled.jpg
END:VEVENT
BEGIN:VEVENT
DTSTART;TZID=America/Detroit:20240809T110000
DTEND;TZID=America/Detroit:20240809T123000
DTSTAMP:20260423T194628
CREATED:20240121T193827Z
LAST-MODIFIED:20240121T193841Z
UID:10005257-1723201200-1723206600@stowemission.org
SUMMARY:Community Kitchen
DESCRIPTION:Join us Monday – Friday every week from 11 – 12:30 pm. Enter on the south side of the building at the Community Kitchen door. \nBesides a nutritious lunch\, the Community Kitchen provides a warm and safe gathering environment. Many of our neighbors have no family connections\, and the dining room is a place to develop friendships and fulfill physical and social needs.
URL:https://stowemission.org/event/free-daily-lunch-2-2/2024-08-09/
LOCATION:Stowe Mission\, 888 Parsons Avenue\, Columbus\, OH\, 43206\, United States
CATEGORIES:Featured,Home,Hunger
ATTACH;FMTTYPE=image/jpeg:https://stowemission.org/wp-content/uploads/2022/11/StoweMissionCommunityKitchenFreeLunch.jpg
END:VEVENT
BEGIN:VEVENT
DTSTART;TZID=America/Detroit:20240808T110000
DTEND;TZID=America/Detroit:20240808T123000
DTSTAMP:20260423T194628
CREATED:20240121T193827Z
LAST-MODIFIED:20240121T193841Z
UID:10005256-1723114800-1723120200@stowemission.org
SUMMARY:Community Kitchen
DESCRIPTION:Join us Monday – Friday every week from 11 – 12:30 pm. Enter on the south side of the building at the Community Kitchen door. \nBesides a nutritious lunch\, the Community Kitchen provides a warm and safe gathering environment. Many of our neighbors have no family connections\, and the dining room is a place to develop friendships and fulfill physical and social needs.
URL:https://stowemission.org/event/free-daily-lunch-2-2/2024-08-08/
LOCATION:Stowe Mission\, 888 Parsons Avenue\, Columbus\, OH\, 43206\, United States
CATEGORIES:Featured,Home,Hunger
ATTACH;FMTTYPE=image/jpeg:https://stowemission.org/wp-content/uploads/2022/11/StoweMissionCommunityKitchenFreeLunch.jpg
END:VEVENT
BEGIN:VEVENT
DTSTART;TZID=America/Detroit:20240807T110000
DTEND;TZID=America/Detroit:20240807T123000
DTSTAMP:20260423T194628
CREATED:20240121T193827Z
LAST-MODIFIED:20240121T193841Z
UID:10005255-1723028400-1723033800@stowemission.org
SUMMARY:Community Kitchen
DESCRIPTION:Join us Monday – Friday every week from 11 – 12:30 pm. Enter on the south side of the building at the Community Kitchen door. \nBesides a nutritious lunch\, the Community Kitchen provides a warm and safe gathering environment. Many of our neighbors have no family connections\, and the dining room is a place to develop friendships and fulfill physical and social needs.
URL:https://stowemission.org/event/free-daily-lunch-2-2/2024-08-07/
LOCATION:Stowe Mission\, 888 Parsons Avenue\, Columbus\, OH\, 43206\, United States
CATEGORIES:Featured,Home,Hunger
ATTACH;FMTTYPE=image/jpeg:https://stowemission.org/wp-content/uploads/2022/11/StoweMissionCommunityKitchenFreeLunch.jpg
END:VEVENT
BEGIN:VEVENT
DTSTART;TZID=America/Detroit:20240806T130000
DTEND;TZID=America/Detroit:20240808T170000
DTSTAMP:20260423T194628
CREATED:20240531T162924Z
LAST-MODIFIED:20240730T182314Z
UID:10008169-1722949200-1723136400@stowemission.org
SUMMARY:Vacation Bible School
DESCRIPTION:Vacation Bible School at Stowe Mission! \nAugust 6-8 1pm-5pm\nJoin us for activities\, games & snacks. \nAll children between the ages of 6 – 15 are welcome. \nThere is no cost to attend.
URL:https://stowemission.org/event/vacation-bible-school-4/
LOCATION:Stowe Mission\, 888 Parsons Avenue\, Columbus\, OH\, 43206\, United States
ATTACH;FMTTYPE=image/jpeg:https://stowemission.org/wp-content/uploads/2024/05/Image-4.jpg
END:VEVENT
BEGIN:VEVENT
DTSTART;TZID=America/Detroit:20240806T110000
DTEND;TZID=America/Detroit:20240806T123000
DTSTAMP:20260423T194628
CREATED:20240121T193827Z
LAST-MODIFIED:20240121T193841Z
UID:10005254-1722942000-1722947400@stowemission.org
SUMMARY:Community Kitchen
DESCRIPTION:Join us Monday – Friday every week from 11 – 12:30 pm. Enter on the south side of the building at the Community Kitchen door. \nBesides a nutritious lunch\, the Community Kitchen provides a warm and safe gathering environment. Many of our neighbors have no family connections\, and the dining room is a place to develop friendships and fulfill physical and social needs.
URL:https://stowemission.org/event/free-daily-lunch-2-2/2024-08-06/
LOCATION:Stowe Mission\, 888 Parsons Avenue\, Columbus\, OH\, 43206\, United States
CATEGORIES:Featured,Home,Hunger
ATTACH;FMTTYPE=image/jpeg:https://stowemission.org/wp-content/uploads/2022/11/StoweMissionCommunityKitchenFreeLunch.jpg
END:VEVENT
BEGIN:VEVENT
DTSTART;TZID=America/Detroit:20240805T110000
DTEND;TZID=America/Detroit:20240805T123000
DTSTAMP:20260423T194628
CREATED:20240121T193827Z
LAST-MODIFIED:20240121T193841Z
UID:10005253-1722855600-1722861000@stowemission.org
SUMMARY:Community Kitchen
DESCRIPTION:Join us Monday – Friday every week from 11 – 12:30 pm. Enter on the south side of the building at the Community Kitchen door. \nBesides a nutritious lunch\, the Community Kitchen provides a warm and safe gathering environment. Many of our neighbors have no family connections\, and the dining room is a place to develop friendships and fulfill physical and social needs.
URL:https://stowemission.org/event/free-daily-lunch-2-2/2024-08-05/
LOCATION:Stowe Mission\, 888 Parsons Avenue\, Columbus\, OH\, 43206\, United States
CATEGORIES:Featured,Home,Hunger
ATTACH;FMTTYPE=image/jpeg:https://stowemission.org/wp-content/uploads/2022/11/StoweMissionCommunityKitchenFreeLunch.jpg
END:VEVENT
BEGIN:VEVENT
DTSTART;TZID=America/Detroit:20240802T110000
DTEND;TZID=America/Detroit:20240802T123000
DTSTAMP:20260423T194628
CREATED:20240121T193827Z
LAST-MODIFIED:20240121T193841Z
UID:10005252-1722596400-1722601800@stowemission.org
SUMMARY:Community Kitchen
DESCRIPTION:Join us Monday – Friday every week from 11 – 12:30 pm. Enter on the south side of the building at the Community Kitchen door. \nBesides a nutritious lunch\, the Community Kitchen provides a warm and safe gathering environment. Many of our neighbors have no family connections\, and the dining room is a place to develop friendships and fulfill physical and social needs.
URL:https://stowemission.org/event/free-daily-lunch-2-2/2024-08-02/
LOCATION:Stowe Mission\, 888 Parsons Avenue\, Columbus\, OH\, 43206\, United States
CATEGORIES:Featured,Home,Hunger
ATTACH;FMTTYPE=image/jpeg:https://stowemission.org/wp-content/uploads/2022/11/StoweMissionCommunityKitchenFreeLunch.jpg
END:VEVENT
BEGIN:VEVENT
DTSTART;TZID=America/Detroit:20240801T110000
DTEND;TZID=America/Detroit:20240801T123000
DTSTAMP:20260423T194628
CREATED:20240121T193827Z
LAST-MODIFIED:20240121T193841Z
UID:10005251-1722510000-1722515400@stowemission.org
SUMMARY:Community Kitchen
DESCRIPTION:Join us Monday – Friday every week from 11 – 12:30 pm. Enter on the south side of the building at the Community Kitchen door. \nBesides a nutritious lunch\, the Community Kitchen provides a warm and safe gathering environment. Many of our neighbors have no family connections\, and the dining room is a place to develop friendships and fulfill physical and social needs.
URL:https://stowemission.org/event/free-daily-lunch-2-2/2024-08-01/
LOCATION:Stowe Mission\, 888 Parsons Avenue\, Columbus\, OH\, 43206\, United States
CATEGORIES:Featured,Home,Hunger
ATTACH;FMTTYPE=image/jpeg:https://stowemission.org/wp-content/uploads/2022/11/StoweMissionCommunityKitchenFreeLunch.jpg
END:VEVENT
BEGIN:VEVENT
DTSTART;TZID=America/Detroit:20240731T110000
DTEND;TZID=America/Detroit:20240731T123000
DTSTAMP:20260423T194628
CREATED:20240121T193827Z
LAST-MODIFIED:20240121T193841Z
UID:10005250-1722423600-1722429000@stowemission.org
SUMMARY:Community Kitchen
DESCRIPTION:Join us Monday – Friday every week from 11 – 12:30 pm. Enter on the south side of the building at the Community Kitchen door. \nBesides a nutritious lunch\, the Community Kitchen provides a warm and safe gathering environment. Many of our neighbors have no family connections\, and the dining room is a place to develop friendships and fulfill physical and social needs.
URL:https://stowemission.org/event/free-daily-lunch-2-2/2024-07-31/
LOCATION:Stowe Mission\, 888 Parsons Avenue\, Columbus\, OH\, 43206\, United States
CATEGORIES:Featured,Home,Hunger
ATTACH;FMTTYPE=image/jpeg:https://stowemission.org/wp-content/uploads/2022/11/StoweMissionCommunityKitchenFreeLunch.jpg
END:VEVENT
BEGIN:VEVENT
DTSTART;TZID=America/Detroit:20240730T170000
DTEND;TZID=America/Detroit:20240730T190000
DTSTAMP:20260423T194628
CREATED:20240725T214558Z
LAST-MODIFIED:20240726T140527Z
UID:10008174-1722358800-1722366000@stowemission.org
SUMMARY:July Block Party & Shoe Drive
DESCRIPTION:Tuesday\, July 30th join us at 888 Parsons Ave. for an end of July block party! Fun\, games\, food\, raffles and more. This is also our shoe drive giveaway so if you registered for a pair of shoes\, make sure you’re there to get them!
URL:https://stowemission.org/event/july-block-party/
LOCATION:Stowe Mission\, 888 Parsons Avenue\, Columbus\, OH\, 43206\, United States
ATTACH;FMTTYPE=image/jpeg:https://stowemission.org/wp-content/uploads/2024/07/BlockParty-July2024-Web.jpg
END:VEVENT
BEGIN:VEVENT
DTSTART;TZID=America/Detroit:20240730T110000
DTEND;TZID=America/Detroit:20240730T123000
DTSTAMP:20260423T194628
CREATED:20240121T193827Z
LAST-MODIFIED:20240121T193841Z
UID:10005249-1722337200-1722342600@stowemission.org
SUMMARY:Community Kitchen
DESCRIPTION:Join us Monday – Friday every week from 11 – 12:30 pm. Enter on the south side of the building at the Community Kitchen door. \nBesides a nutritious lunch\, the Community Kitchen provides a warm and safe gathering environment. Many of our neighbors have no family connections\, and the dining room is a place to develop friendships and fulfill physical and social needs.
URL:https://stowemission.org/event/free-daily-lunch-2-2/2024-07-30/
LOCATION:Stowe Mission\, 888 Parsons Avenue\, Columbus\, OH\, 43206\, United States
CATEGORIES:Featured,Home,Hunger
ATTACH;FMTTYPE=image/jpeg:https://stowemission.org/wp-content/uploads/2022/11/StoweMissionCommunityKitchenFreeLunch.jpg
END:VEVENT
BEGIN:VEVENT
DTSTART;TZID=America/Detroit:20240729T110000
DTEND;TZID=America/Detroit:20240729T123000
DTSTAMP:20260423T194628
CREATED:20240121T193827Z
LAST-MODIFIED:20240121T193841Z
UID:10005248-1722250800-1722256200@stowemission.org
SUMMARY:Community Kitchen
DESCRIPTION:Join us Monday – Friday every week from 11 – 12:30 pm. Enter on the south side of the building at the Community Kitchen door. \nBesides a nutritious lunch\, the Community Kitchen provides a warm and safe gathering environment. Many of our neighbors have no family connections\, and the dining room is a place to develop friendships and fulfill physical and social needs.
URL:https://stowemission.org/event/free-daily-lunch-2-2/2024-07-29/
LOCATION:Stowe Mission\, 888 Parsons Avenue\, Columbus\, OH\, 43206\, United States
CATEGORIES:Featured,Home,Hunger
ATTACH;FMTTYPE=image/jpeg:https://stowemission.org/wp-content/uploads/2022/11/StoweMissionCommunityKitchenFreeLunch.jpg
END:VEVENT
BEGIN:VEVENT
DTSTART;TZID=America/Detroit:20240726T110000
DTEND;TZID=America/Detroit:20240726T123000
DTSTAMP:20260423T194628
CREATED:20240121T193827Z
LAST-MODIFIED:20240121T193841Z
UID:10005247-1721991600-1721997000@stowemission.org
SUMMARY:Community Kitchen
DESCRIPTION:Join us Monday – Friday every week from 11 – 12:30 pm. Enter on the south side of the building at the Community Kitchen door. \nBesides a nutritious lunch\, the Community Kitchen provides a warm and safe gathering environment. Many of our neighbors have no family connections\, and the dining room is a place to develop friendships and fulfill physical and social needs.
URL:https://stowemission.org/event/free-daily-lunch-2-2/2024-07-26/
LOCATION:Stowe Mission\, 888 Parsons Avenue\, Columbus\, OH\, 43206\, United States
CATEGORIES:Featured,Home,Hunger
ATTACH;FMTTYPE=image/jpeg:https://stowemission.org/wp-content/uploads/2022/11/StoweMissionCommunityKitchenFreeLunch.jpg
END:VEVENT
BEGIN:VEVENT
DTSTART;TZID=America/Detroit:20240725T110000
DTEND;TZID=America/Detroit:20240725T123000
DTSTAMP:20260423T194628
CREATED:20240121T193827Z
LAST-MODIFIED:20240121T193841Z
UID:10005246-1721905200-1721910600@stowemission.org
SUMMARY:Community Kitchen
DESCRIPTION:Join us Monday – Friday every week from 11 – 12:30 pm. Enter on the south side of the building at the Community Kitchen door. \nBesides a nutritious lunch\, the Community Kitchen provides a warm and safe gathering environment. Many of our neighbors have no family connections\, and the dining room is a place to develop friendships and fulfill physical and social needs.
URL:https://stowemission.org/event/free-daily-lunch-2-2/2024-07-25/
LOCATION:Stowe Mission\, 888 Parsons Avenue\, Columbus\, OH\, 43206\, United States
CATEGORIES:Featured,Home,Hunger
ATTACH;FMTTYPE=image/jpeg:https://stowemission.org/wp-content/uploads/2022/11/StoweMissionCommunityKitchenFreeLunch.jpg
END:VEVENT
BEGIN:VEVENT
DTSTART;TZID=America/Detroit:20240724T110000
DTEND;TZID=America/Detroit:20240724T123000
DTSTAMP:20260423T194628
CREATED:20240121T193827Z
LAST-MODIFIED:20240121T193841Z
UID:10005245-1721818800-1721824200@stowemission.org
SUMMARY:Community Kitchen
DESCRIPTION:Join us Monday – Friday every week from 11 – 12:30 pm. Enter on the south side of the building at the Community Kitchen door. \nBesides a nutritious lunch\, the Community Kitchen provides a warm and safe gathering environment. Many of our neighbors have no family connections\, and the dining room is a place to develop friendships and fulfill physical and social needs.
URL:https://stowemission.org/event/free-daily-lunch-2-2/2024-07-24/
LOCATION:Stowe Mission\, 888 Parsons Avenue\, Columbus\, OH\, 43206\, United States
CATEGORIES:Featured,Home,Hunger
ATTACH;FMTTYPE=image/jpeg:https://stowemission.org/wp-content/uploads/2022/11/StoweMissionCommunityKitchenFreeLunch.jpg
END:VEVENT
BEGIN:VEVENT
DTSTART;TZID=America/Detroit:20240723T110000
DTEND;TZID=America/Detroit:20240723T123000
DTSTAMP:20260423T194628
CREATED:20240121T193827Z
LAST-MODIFIED:20240121T193841Z
UID:10005244-1721732400-1721737800@stowemission.org
SUMMARY:Community Kitchen
DESCRIPTION:Join us Monday – Friday every week from 11 – 12:30 pm. Enter on the south side of the building at the Community Kitchen door. \nBesides a nutritious lunch\, the Community Kitchen provides a warm and safe gathering environment. Many of our neighbors have no family connections\, and the dining room is a place to develop friendships and fulfill physical and social needs.
URL:https://stowemission.org/event/free-daily-lunch-2-2/2024-07-23/
LOCATION:Stowe Mission\, 888 Parsons Avenue\, Columbus\, OH\, 43206\, United States
CATEGORIES:Featured,Home,Hunger
ATTACH;FMTTYPE=image/jpeg:https://stowemission.org/wp-content/uploads/2022/11/StoweMissionCommunityKitchenFreeLunch.jpg
END:VEVENT
BEGIN:VEVENT
DTSTART;VALUE=DATE:20240723
DTEND;VALUE=DATE:20240821
DTSTAMP:20260423T194628
CREATED:20240723T141853Z
LAST-MODIFIED:20240729T175553Z
UID:10008173-1721692800-1724198399@stowemission.org
SUMMARY:Join our ASP Volunteer Team - We need Mentors!
DESCRIPTION:We are looking for dedicated volunteers to come and serve with our After-School Program!  \nOur program runs Monday – Friday 3pm-6pm! Let us know the best days and times that work for you to come and be a role model for our students.  \nWe get to help kids with their homework\, eat dinner with them and play with all kinds of activities and sports!  \nRegister at the link below!
URL:https://stowemission.org/event/aspmentors/
LOCATION:Stowe Mission\, 888 Parsons Avenue\, Columbus\, OH\, 43206\, United States
ATTACH;FMTTYPE=image/jpeg:https://stowemission.org/wp-content/uploads/2024/07/AfterSchoolMentors-Web-scaled.jpg
END:VEVENT
BEGIN:VEVENT
DTSTART;VALUE=DATE:20240723
DTEND;VALUE=DATE:20240821
DTSTAMP:20260423T194628
CREATED:20240723T141457Z
LAST-MODIFIED:20240729T164242Z
UID:10008172-1721692800-1724198399@stowemission.org
SUMMARY:Join our ASP Volunteer Team - We need Drivers
DESCRIPTION:We are looking for dedicated volunteers to pickup our students from school and bring them to Stowe Mission! \nMonday – Friday 2:45-4pm – Choose the days that work best for you in the registration below.  \nOur After School Program is essential to so many families who rely on the staff and volunteers at Stowe to help their kids with homework\, provide healthy meals and have fun! We need you to help that dream come true this year.  \nRegister at the link below and click the “2:45-4pm (Van Driver)” time.
URL:https://stowemission.org/event/aspdriver/
LOCATION:Stowe Mission\, 888 Parsons Avenue\, Columbus\, OH\, 43206\, United States
ATTACH;FMTTYPE=image/jpeg:https://stowemission.org/wp-content/uploads/2024/07/AfterSchoolDrivers-Web-scaled.jpg
END:VEVENT
BEGIN:VEVENT
DTSTART;TZID=America/Detroit:20240722T130000
DTEND;TZID=America/Detroit:20240724T150000
DTSTAMP:20260423T194628
CREATED:20240531T162820Z
LAST-MODIFIED:20240723T144050Z
UID:10008168-1721653200-1721833200@stowemission.org
SUMMARY:Vacation Bible School
DESCRIPTION:Vacation Bible School at Stowe Mission! \nJuly 22-24 1pm-3pm\nJoin us for activities\, games & snacks. \nAll children between the ages of 6 – 15 are welcome. \nRegister now for this exciting\, program. \nThere is no cost to attend.
URL:https://stowemission.org/event/vacation-bible-school-3/
LOCATION:Stowe Mission\, 888 Parsons Avenue\, Columbus\, OH\, 43206\, United States
ATTACH;FMTTYPE=image/jpeg:https://stowemission.org/wp-content/uploads/2024/05/64095e4f-4cf1-486a-9b7c-27cb344b56b8.jpg
END:VEVENT
BEGIN:VEVENT
DTSTART;TZID=America/Detroit:20240722T110000
DTEND;TZID=America/Detroit:20240722T123000
DTSTAMP:20260423T194628
CREATED:20240121T193827Z
LAST-MODIFIED:20240121T193841Z
UID:10005243-1721646000-1721651400@stowemission.org
SUMMARY:Community Kitchen
DESCRIPTION:Join us Monday – Friday every week from 11 – 12:30 pm. Enter on the south side of the building at the Community Kitchen door. \nBesides a nutritious lunch\, the Community Kitchen provides a warm and safe gathering environment. Many of our neighbors have no family connections\, and the dining room is a place to develop friendships and fulfill physical and social needs.
URL:https://stowemission.org/event/free-daily-lunch-2-2/2024-07-22/
LOCATION:Stowe Mission\, 888 Parsons Avenue\, Columbus\, OH\, 43206\, United States
CATEGORIES:Featured,Home,Hunger
ATTACH;FMTTYPE=image/jpeg:https://stowemission.org/wp-content/uploads/2022/11/StoweMissionCommunityKitchenFreeLunch.jpg
END:VEVENT
BEGIN:VEVENT
DTSTART;TZID=America/Detroit:20240719T110000
DTEND;TZID=America/Detroit:20240719T123000
DTSTAMP:20260423T194628
CREATED:20240121T193827Z
LAST-MODIFIED:20240121T193841Z
UID:10005242-1721386800-1721392200@stowemission.org
SUMMARY:Community Kitchen
DESCRIPTION:Join us Monday – Friday every week from 11 – 12:30 pm. Enter on the south side of the building at the Community Kitchen door. \nBesides a nutritious lunch\, the Community Kitchen provides a warm and safe gathering environment. Many of our neighbors have no family connections\, and the dining room is a place to develop friendships and fulfill physical and social needs.
URL:https://stowemission.org/event/free-daily-lunch-2-2/2024-07-19/
LOCATION:Stowe Mission\, 888 Parsons Avenue\, Columbus\, OH\, 43206\, United States
CATEGORIES:Featured,Home,Hunger
ATTACH;FMTTYPE=image/jpeg:https://stowemission.org/wp-content/uploads/2022/11/StoweMissionCommunityKitchenFreeLunch.jpg
END:VEVENT
END:VCALENDAR