BEGIN:VCALENDAR
VERSION:2.0
PRODID:-//Stowe Mission - ECPv6.15.15//NONSGML v1.0//EN
CALSCALE:GREGORIAN
METHOD:PUBLISH
X-WR-CALNAME:Stowe Mission
X-ORIGINAL-URL:https://stowemission.org
X-WR-CALDESC:Events for Stowe Mission
REFRESH-INTERVAL;VALUE=DURATION:PT1H
X-Robots-Tag:noindex
X-PUBLISHED-TTL:PT1H
BEGIN:VTIMEZONE
TZID:America/Detroit
BEGIN:DAYLIGHT
TZOFFSETFROM:-0500
TZOFFSETTO:-0400
TZNAME:EDT
DTSTART:20230312T070000
END:DAYLIGHT
BEGIN:STANDARD
TZOFFSETFROM:-0400
TZOFFSETTO:-0500
TZNAME:EST
DTSTART:20231105T060000
END:STANDARD
BEGIN:DAYLIGHT
TZOFFSETFROM:-0500
TZOFFSETTO:-0400
TZNAME:EDT
DTSTART:20240310T070000
END:DAYLIGHT
BEGIN:STANDARD
TZOFFSETFROM:-0400
TZOFFSETTO:-0500
TZNAME:EST
DTSTART:20241103T060000
END:STANDARD
BEGIN:DAYLIGHT
TZOFFSETFROM:-0500
TZOFFSETTO:-0400
TZNAME:EDT
DTSTART:20250309T070000
END:DAYLIGHT
BEGIN:STANDARD
TZOFFSETFROM:-0400
TZOFFSETTO:-0500
TZNAME:EST
DTSTART:20251102T060000
END:STANDARD
END:VTIMEZONE
BEGIN:VEVENT
DTSTART;TZID=America/Detroit:20240710T110000
DTEND;TZID=America/Detroit:20240710T123000
DTSTAMP:20260424T003809
CREATED:20240121T193827Z
LAST-MODIFIED:20240121T193841Z
UID:10005235-1720609200-1720614600@stowemission.org
SUMMARY:Community Kitchen
DESCRIPTION:Join us Monday – Friday every week from 11 – 12:30 pm. Enter on the south side of the building at the Community Kitchen door. \nBesides a nutritious lunch\, the Community Kitchen provides a warm and safe gathering environment. Many of our neighbors have no family connections\, and the dining room is a place to develop friendships and fulfill physical and social needs.
URL:https://stowemission.org/event/free-daily-lunch-2-2/2024-07-10/
LOCATION:Stowe Mission\, 888 Parsons Avenue\, Columbus\, OH\, 43206\, United States
CATEGORIES:Featured,Home,Hunger
ATTACH;FMTTYPE=image/jpeg:https://stowemission.org/wp-content/uploads/2022/11/StoweMissionCommunityKitchenFreeLunch.jpg
END:VEVENT
BEGIN:VEVENT
DTSTART;TZID=America/Detroit:20240709T110000
DTEND;TZID=America/Detroit:20240709T123000
DTSTAMP:20260424T003809
CREATED:20240121T193827Z
LAST-MODIFIED:20240121T193841Z
UID:10005234-1720522800-1720528200@stowemission.org
SUMMARY:Community Kitchen
DESCRIPTION:Join us Monday – Friday every week from 11 – 12:30 pm. Enter on the south side of the building at the Community Kitchen door. \nBesides a nutritious lunch\, the Community Kitchen provides a warm and safe gathering environment. Many of our neighbors have no family connections\, and the dining room is a place to develop friendships and fulfill physical and social needs.
URL:https://stowemission.org/event/free-daily-lunch-2-2/2024-07-09/
LOCATION:Stowe Mission\, 888 Parsons Avenue\, Columbus\, OH\, 43206\, United States
CATEGORIES:Featured,Home,Hunger
ATTACH;FMTTYPE=image/jpeg:https://stowemission.org/wp-content/uploads/2022/11/StoweMissionCommunityKitchenFreeLunch.jpg
END:VEVENT
BEGIN:VEVENT
DTSTART;TZID=America/Detroit:20240708T110000
DTEND;TZID=America/Detroit:20240708T123000
DTSTAMP:20260424T003809
CREATED:20240121T193827Z
LAST-MODIFIED:20240121T193841Z
UID:10005233-1720436400-1720441800@stowemission.org
SUMMARY:Community Kitchen
DESCRIPTION:Join us Monday – Friday every week from 11 – 12:30 pm. Enter on the south side of the building at the Community Kitchen door. \nBesides a nutritious lunch\, the Community Kitchen provides a warm and safe gathering environment. Many of our neighbors have no family connections\, and the dining room is a place to develop friendships and fulfill physical and social needs.
URL:https://stowemission.org/event/free-daily-lunch-2-2/2024-07-08/
LOCATION:Stowe Mission\, 888 Parsons Avenue\, Columbus\, OH\, 43206\, United States
CATEGORIES:Featured,Home,Hunger
ATTACH;FMTTYPE=image/jpeg:https://stowemission.org/wp-content/uploads/2022/11/StoweMissionCommunityKitchenFreeLunch.jpg
END:VEVENT
BEGIN:VEVENT
DTSTART;TZID=America/Detroit:20240705T110000
DTEND;TZID=America/Detroit:20240705T123000
DTSTAMP:20260424T003809
CREATED:20240121T193827Z
LAST-MODIFIED:20240121T193841Z
UID:10005232-1720177200-1720182600@stowemission.org
SUMMARY:Community Kitchen
DESCRIPTION:Join us Monday – Friday every week from 11 – 12:30 pm. Enter on the south side of the building at the Community Kitchen door. \nBesides a nutritious lunch\, the Community Kitchen provides a warm and safe gathering environment. Many of our neighbors have no family connections\, and the dining room is a place to develop friendships and fulfill physical and social needs.
URL:https://stowemission.org/event/free-daily-lunch-2-2/2024-07-05/
LOCATION:Stowe Mission\, 888 Parsons Avenue\, Columbus\, OH\, 43206\, United States
CATEGORIES:Featured,Home,Hunger
ATTACH;FMTTYPE=image/jpeg:https://stowemission.org/wp-content/uploads/2022/11/StoweMissionCommunityKitchenFreeLunch.jpg
END:VEVENT
BEGIN:VEVENT
DTSTART;TZID=America/Detroit:20240704T110000
DTEND;TZID=America/Detroit:20240704T123000
DTSTAMP:20260424T003809
CREATED:20240121T193827Z
LAST-MODIFIED:20240121T193841Z
UID:10005231-1720090800-1720096200@stowemission.org
SUMMARY:Community Kitchen
DESCRIPTION:Join us Monday – Friday every week from 11 – 12:30 pm. Enter on the south side of the building at the Community Kitchen door. \nBesides a nutritious lunch\, the Community Kitchen provides a warm and safe gathering environment. Many of our neighbors have no family connections\, and the dining room is a place to develop friendships and fulfill physical and social needs.
URL:https://stowemission.org/event/free-daily-lunch-2-2/2024-07-04/
LOCATION:Stowe Mission\, 888 Parsons Avenue\, Columbus\, OH\, 43206\, United States
CATEGORIES:Featured,Home,Hunger
ATTACH;FMTTYPE=image/jpeg:https://stowemission.org/wp-content/uploads/2022/11/StoweMissionCommunityKitchenFreeLunch.jpg
END:VEVENT
BEGIN:VEVENT
DTSTART;TZID=America/Detroit:20240703T110000
DTEND;TZID=America/Detroit:20240703T123000
DTSTAMP:20260424T003809
CREATED:20240121T193827Z
LAST-MODIFIED:20240121T193841Z
UID:10005230-1720004400-1720009800@stowemission.org
SUMMARY:Community Kitchen
DESCRIPTION:Join us Monday – Friday every week from 11 – 12:30 pm. Enter on the south side of the building at the Community Kitchen door. \nBesides a nutritious lunch\, the Community Kitchen provides a warm and safe gathering environment. Many of our neighbors have no family connections\, and the dining room is a place to develop friendships and fulfill physical and social needs.
URL:https://stowemission.org/event/free-daily-lunch-2-2/2024-07-03/
LOCATION:Stowe Mission\, 888 Parsons Avenue\, Columbus\, OH\, 43206\, United States
CATEGORIES:Featured,Home,Hunger
ATTACH;FMTTYPE=image/jpeg:https://stowemission.org/wp-content/uploads/2022/11/StoweMissionCommunityKitchenFreeLunch.jpg
END:VEVENT
BEGIN:VEVENT
DTSTART;TZID=America/Detroit:20240702T110000
DTEND;TZID=America/Detroit:20240702T123000
DTSTAMP:20260424T003809
CREATED:20240121T193827Z
LAST-MODIFIED:20240121T193841Z
UID:10005229-1719918000-1719923400@stowemission.org
SUMMARY:Community Kitchen
DESCRIPTION:Join us Monday – Friday every week from 11 – 12:30 pm. Enter on the south side of the building at the Community Kitchen door. \nBesides a nutritious lunch\, the Community Kitchen provides a warm and safe gathering environment. Many of our neighbors have no family connections\, and the dining room is a place to develop friendships and fulfill physical and social needs.
URL:https://stowemission.org/event/free-daily-lunch-2-2/2024-07-02/
LOCATION:Stowe Mission\, 888 Parsons Avenue\, Columbus\, OH\, 43206\, United States
CATEGORIES:Featured,Home,Hunger
ATTACH;FMTTYPE=image/jpeg:https://stowemission.org/wp-content/uploads/2022/11/StoweMissionCommunityKitchenFreeLunch.jpg
END:VEVENT
BEGIN:VEVENT
DTSTART;TZID=America/Detroit:20240701T110000
DTEND;TZID=America/Detroit:20240701T123000
DTSTAMP:20260424T003809
CREATED:20240121T193827Z
LAST-MODIFIED:20240121T193841Z
UID:10005228-1719831600-1719837000@stowemission.org
SUMMARY:Community Kitchen
DESCRIPTION:Join us Monday – Friday every week from 11 – 12:30 pm. Enter on the south side of the building at the Community Kitchen door. \nBesides a nutritious lunch\, the Community Kitchen provides a warm and safe gathering environment. Many of our neighbors have no family connections\, and the dining room is a place to develop friendships and fulfill physical and social needs.
URL:https://stowemission.org/event/free-daily-lunch-2-2/2024-07-01/
LOCATION:Stowe Mission\, 888 Parsons Avenue\, Columbus\, OH\, 43206\, United States
CATEGORIES:Featured,Home,Hunger
ATTACH;FMTTYPE=image/jpeg:https://stowemission.org/wp-content/uploads/2022/11/StoweMissionCommunityKitchenFreeLunch.jpg
END:VEVENT
BEGIN:VEVENT
DTSTART;TZID=America/Detroit:20240628T110000
DTEND;TZID=America/Detroit:20240628T123000
DTSTAMP:20260424T003809
CREATED:20240121T193827Z
LAST-MODIFIED:20240121T193841Z
UID:10005227-1719572400-1719577800@stowemission.org
SUMMARY:Community Kitchen
DESCRIPTION:Join us Monday – Friday every week from 11 – 12:30 pm. Enter on the south side of the building at the Community Kitchen door. \nBesides a nutritious lunch\, the Community Kitchen provides a warm and safe gathering environment. Many of our neighbors have no family connections\, and the dining room is a place to develop friendships and fulfill physical and social needs.
URL:https://stowemission.org/event/free-daily-lunch-2-2/2024-06-28/
LOCATION:Stowe Mission\, 888 Parsons Avenue\, Columbus\, OH\, 43206\, United States
CATEGORIES:Featured,Home,Hunger
ATTACH;FMTTYPE=image/jpeg:https://stowemission.org/wp-content/uploads/2022/11/StoweMissionCommunityKitchenFreeLunch.jpg
END:VEVENT
BEGIN:VEVENT
DTSTART;TZID=America/Detroit:20240627T110000
DTEND;TZID=America/Detroit:20240627T123000
DTSTAMP:20260424T003809
CREATED:20240121T193827Z
LAST-MODIFIED:20240121T193841Z
UID:10005226-1719486000-1719491400@stowemission.org
SUMMARY:Community Kitchen
DESCRIPTION:Join us Monday – Friday every week from 11 – 12:30 pm. Enter on the south side of the building at the Community Kitchen door. \nBesides a nutritious lunch\, the Community Kitchen provides a warm and safe gathering environment. Many of our neighbors have no family connections\, and the dining room is a place to develop friendships and fulfill physical and social needs.
URL:https://stowemission.org/event/free-daily-lunch-2-2/2024-06-27/
LOCATION:Stowe Mission\, 888 Parsons Avenue\, Columbus\, OH\, 43206\, United States
CATEGORIES:Featured,Home,Hunger
ATTACH;FMTTYPE=image/jpeg:https://stowemission.org/wp-content/uploads/2022/11/StoweMissionCommunityKitchenFreeLunch.jpg
END:VEVENT
BEGIN:VEVENT
DTSTART;TZID=America/Detroit:20240626T110000
DTEND;TZID=America/Detroit:20240626T123000
DTSTAMP:20260424T003809
CREATED:20240121T193827Z
LAST-MODIFIED:20240121T193841Z
UID:10005225-1719399600-1719405000@stowemission.org
SUMMARY:Community Kitchen
DESCRIPTION:Join us Monday – Friday every week from 11 – 12:30 pm. Enter on the south side of the building at the Community Kitchen door. \nBesides a nutritious lunch\, the Community Kitchen provides a warm and safe gathering environment. Many of our neighbors have no family connections\, and the dining room is a place to develop friendships and fulfill physical and social needs.
URL:https://stowemission.org/event/free-daily-lunch-2-2/2024-06-26/
LOCATION:Stowe Mission\, 888 Parsons Avenue\, Columbus\, OH\, 43206\, United States
CATEGORIES:Featured,Home,Hunger
ATTACH;FMTTYPE=image/jpeg:https://stowemission.org/wp-content/uploads/2022/11/StoweMissionCommunityKitchenFreeLunch.jpg
END:VEVENT
BEGIN:VEVENT
DTSTART;TZID=America/Detroit:20240625T110000
DTEND;TZID=America/Detroit:20240625T123000
DTSTAMP:20260424T003809
CREATED:20240121T193827Z
LAST-MODIFIED:20240121T193841Z
UID:10005224-1719313200-1719318600@stowemission.org
SUMMARY:Community Kitchen
DESCRIPTION:Join us Monday – Friday every week from 11 – 12:30 pm. Enter on the south side of the building at the Community Kitchen door. \nBesides a nutritious lunch\, the Community Kitchen provides a warm and safe gathering environment. Many of our neighbors have no family connections\, and the dining room is a place to develop friendships and fulfill physical and social needs.
URL:https://stowemission.org/event/free-daily-lunch-2-2/2024-06-25/
LOCATION:Stowe Mission\, 888 Parsons Avenue\, Columbus\, OH\, 43206\, United States
CATEGORIES:Featured,Home,Hunger
ATTACH;FMTTYPE=image/jpeg:https://stowemission.org/wp-content/uploads/2022/11/StoweMissionCommunityKitchenFreeLunch.jpg
END:VEVENT
BEGIN:VEVENT
DTSTART;TZID=America/Detroit:20240624T110000
DTEND;TZID=America/Detroit:20240624T123000
DTSTAMP:20260424T003809
CREATED:20240121T193827Z
LAST-MODIFIED:20240121T193841Z
UID:10005223-1719226800-1719232200@stowemission.org
SUMMARY:Community Kitchen
DESCRIPTION:Join us Monday – Friday every week from 11 – 12:30 pm. Enter on the south side of the building at the Community Kitchen door. \nBesides a nutritious lunch\, the Community Kitchen provides a warm and safe gathering environment. Many of our neighbors have no family connections\, and the dining room is a place to develop friendships and fulfill physical and social needs.
URL:https://stowemission.org/event/free-daily-lunch-2-2/2024-06-24/
LOCATION:Stowe Mission\, 888 Parsons Avenue\, Columbus\, OH\, 43206\, United States
CATEGORIES:Featured,Home,Hunger
ATTACH;FMTTYPE=image/jpeg:https://stowemission.org/wp-content/uploads/2022/11/StoweMissionCommunityKitchenFreeLunch.jpg
END:VEVENT
BEGIN:VEVENT
DTSTART;TZID=America/Detroit:20240621T110000
DTEND;TZID=America/Detroit:20240621T123000
DTSTAMP:20260424T003809
CREATED:20240121T193827Z
LAST-MODIFIED:20240121T193841Z
UID:10005222-1718967600-1718973000@stowemission.org
SUMMARY:Community Kitchen
DESCRIPTION:Join us Monday – Friday every week from 11 – 12:30 pm. Enter on the south side of the building at the Community Kitchen door. \nBesides a nutritious lunch\, the Community Kitchen provides a warm and safe gathering environment. Many of our neighbors have no family connections\, and the dining room is a place to develop friendships and fulfill physical and social needs.
URL:https://stowemission.org/event/free-daily-lunch-2-2/2024-06-21/
LOCATION:Stowe Mission\, 888 Parsons Avenue\, Columbus\, OH\, 43206\, United States
CATEGORIES:Featured,Home,Hunger
ATTACH;FMTTYPE=image/jpeg:https://stowemission.org/wp-content/uploads/2022/11/StoweMissionCommunityKitchenFreeLunch.jpg
END:VEVENT
BEGIN:VEVENT
DTSTART;TZID=America/Detroit:20240620T110000
DTEND;TZID=America/Detroit:20240620T123000
DTSTAMP:20260424T003809
CREATED:20240121T193827Z
LAST-MODIFIED:20240121T193841Z
UID:10005221-1718881200-1718886600@stowemission.org
SUMMARY:Community Kitchen
DESCRIPTION:Join us Monday – Friday every week from 11 – 12:30 pm. Enter on the south side of the building at the Community Kitchen door. \nBesides a nutritious lunch\, the Community Kitchen provides a warm and safe gathering environment. Many of our neighbors have no family connections\, and the dining room is a place to develop friendships and fulfill physical and social needs.
URL:https://stowemission.org/event/free-daily-lunch-2-2/2024-06-20/
LOCATION:Stowe Mission\, 888 Parsons Avenue\, Columbus\, OH\, 43206\, United States
CATEGORIES:Featured,Home,Hunger
ATTACH;FMTTYPE=image/jpeg:https://stowemission.org/wp-content/uploads/2022/11/StoweMissionCommunityKitchenFreeLunch.jpg
END:VEVENT
BEGIN:VEVENT
DTSTART;TZID=America/Detroit:20240619T110000
DTEND;TZID=America/Detroit:20240619T123000
DTSTAMP:20260424T003809
CREATED:20240121T193827Z
LAST-MODIFIED:20240121T193841Z
UID:10005220-1718794800-1718800200@stowemission.org
SUMMARY:Community Kitchen
DESCRIPTION:Join us Monday – Friday every week from 11 – 12:30 pm. Enter on the south side of the building at the Community Kitchen door. \nBesides a nutritious lunch\, the Community Kitchen provides a warm and safe gathering environment. Many of our neighbors have no family connections\, and the dining room is a place to develop friendships and fulfill physical and social needs.
URL:https://stowemission.org/event/free-daily-lunch-2-2/2024-06-19/
LOCATION:Stowe Mission\, 888 Parsons Avenue\, Columbus\, OH\, 43206\, United States
CATEGORIES:Featured,Home,Hunger
ATTACH;FMTTYPE=image/jpeg:https://stowemission.org/wp-content/uploads/2022/11/StoweMissionCommunityKitchenFreeLunch.jpg
END:VEVENT
BEGIN:VEVENT
DTSTART;TZID=America/Detroit:20240618T110000
DTEND;TZID=America/Detroit:20240618T123000
DTSTAMP:20260424T003809
CREATED:20240121T193827Z
LAST-MODIFIED:20240121T193841Z
UID:10005219-1718708400-1718713800@stowemission.org
SUMMARY:Community Kitchen
DESCRIPTION:Join us Monday – Friday every week from 11 – 12:30 pm. Enter on the south side of the building at the Community Kitchen door. \nBesides a nutritious lunch\, the Community Kitchen provides a warm and safe gathering environment. Many of our neighbors have no family connections\, and the dining room is a place to develop friendships and fulfill physical and social needs.
URL:https://stowemission.org/event/free-daily-lunch-2-2/2024-06-18/
LOCATION:Stowe Mission\, 888 Parsons Avenue\, Columbus\, OH\, 43206\, United States
CATEGORIES:Featured,Home,Hunger
ATTACH;FMTTYPE=image/jpeg:https://stowemission.org/wp-content/uploads/2022/11/StoweMissionCommunityKitchenFreeLunch.jpg
END:VEVENT
BEGIN:VEVENT
DTSTART;TZID=America/Detroit:20240617T110000
DTEND;TZID=America/Detroit:20240617T123000
DTSTAMP:20260424T003809
CREATED:20240121T193827Z
LAST-MODIFIED:20240121T193841Z
UID:10005218-1718622000-1718627400@stowemission.org
SUMMARY:Community Kitchen
DESCRIPTION:Join us Monday – Friday every week from 11 – 12:30 pm. Enter on the south side of the building at the Community Kitchen door. \nBesides a nutritious lunch\, the Community Kitchen provides a warm and safe gathering environment. Many of our neighbors have no family connections\, and the dining room is a place to develop friendships and fulfill physical and social needs.
URL:https://stowemission.org/event/free-daily-lunch-2-2/2024-06-17/
LOCATION:Stowe Mission\, 888 Parsons Avenue\, Columbus\, OH\, 43206\, United States
CATEGORIES:Featured,Home,Hunger
ATTACH;FMTTYPE=image/jpeg:https://stowemission.org/wp-content/uploads/2022/11/StoweMissionCommunityKitchenFreeLunch.jpg
END:VEVENT
BEGIN:VEVENT
DTSTART;TZID=America/Detroit:20240614T110000
DTEND;TZID=America/Detroit:20240614T123000
DTSTAMP:20260424T003809
CREATED:20240121T193827Z
LAST-MODIFIED:20240121T193841Z
UID:10005217-1718362800-1718368200@stowemission.org
SUMMARY:Community Kitchen
DESCRIPTION:Join us Monday – Friday every week from 11 – 12:30 pm. Enter on the south side of the building at the Community Kitchen door. \nBesides a nutritious lunch\, the Community Kitchen provides a warm and safe gathering environment. Many of our neighbors have no family connections\, and the dining room is a place to develop friendships and fulfill physical and social needs.
URL:https://stowemission.org/event/free-daily-lunch-2-2/2024-06-14/
LOCATION:Stowe Mission\, 888 Parsons Avenue\, Columbus\, OH\, 43206\, United States
CATEGORIES:Featured,Home,Hunger
ATTACH;FMTTYPE=image/jpeg:https://stowemission.org/wp-content/uploads/2022/11/StoweMissionCommunityKitchenFreeLunch.jpg
END:VEVENT
BEGIN:VEVENT
DTSTART;TZID=America/Detroit:20240613T110000
DTEND;TZID=America/Detroit:20240613T123000
DTSTAMP:20260424T003809
CREATED:20240121T193827Z
LAST-MODIFIED:20240121T193841Z
UID:10005216-1718276400-1718281800@stowemission.org
SUMMARY:Community Kitchen
DESCRIPTION:Join us Monday – Friday every week from 11 – 12:30 pm. Enter on the south side of the building at the Community Kitchen door. \nBesides a nutritious lunch\, the Community Kitchen provides a warm and safe gathering environment. Many of our neighbors have no family connections\, and the dining room is a place to develop friendships and fulfill physical and social needs.
URL:https://stowemission.org/event/free-daily-lunch-2-2/2024-06-13/
LOCATION:Stowe Mission\, 888 Parsons Avenue\, Columbus\, OH\, 43206\, United States
CATEGORIES:Featured,Home,Hunger
ATTACH;FMTTYPE=image/jpeg:https://stowemission.org/wp-content/uploads/2022/11/StoweMissionCommunityKitchenFreeLunch.jpg
END:VEVENT
BEGIN:VEVENT
DTSTART;TZID=America/Detroit:20240612T110000
DTEND;TZID=America/Detroit:20240612T123000
DTSTAMP:20260424T003809
CREATED:20240121T193827Z
LAST-MODIFIED:20240121T193841Z
UID:10005215-1718190000-1718195400@stowemission.org
SUMMARY:Community Kitchen
DESCRIPTION:Join us Monday – Friday every week from 11 – 12:30 pm. Enter on the south side of the building at the Community Kitchen door. \nBesides a nutritious lunch\, the Community Kitchen provides a warm and safe gathering environment. Many of our neighbors have no family connections\, and the dining room is a place to develop friendships and fulfill physical and social needs.
URL:https://stowemission.org/event/free-daily-lunch-2-2/2024-06-12/
LOCATION:Stowe Mission\, 888 Parsons Avenue\, Columbus\, OH\, 43206\, United States
CATEGORIES:Featured,Home,Hunger
ATTACH;FMTTYPE=image/jpeg:https://stowemission.org/wp-content/uploads/2022/11/StoweMissionCommunityKitchenFreeLunch.jpg
END:VEVENT
BEGIN:VEVENT
DTSTART;TZID=America/Detroit:20240611T130000
DTEND;TZID=America/Detroit:20240614T150000
DTSTAMP:20260424T003809
CREATED:20240531T162620Z
LAST-MODIFIED:20240531T162620Z
UID:10001820-1718110800-1718377200@stowemission.org
SUMMARY:Vacation Bible School
DESCRIPTION:Vacation Bible School at Stowe Mission! \nJune 11-14 1pm-3pm\nJoin us for activities\, games & snacks. \nAll children between the ages of 6 – 15 are welcome. \nRegister now for this exciting\, program. \nThere is no cost to attend.
URL:https://stowemission.org/event/vacation-bible-school-2/
LOCATION:Stowe Mission\, 888 Parsons Avenue\, Columbus\, OH\, 43206\, United States
ATTACH;FMTTYPE=image/png:https://stowemission.org/wp-content/uploads/2023/07/Kids-camp.png
END:VEVENT
BEGIN:VEVENT
DTSTART;TZID=America/Detroit:20240611T110000
DTEND;TZID=America/Detroit:20240611T123000
DTSTAMP:20260424T003809
CREATED:20240121T193827Z
LAST-MODIFIED:20240121T193841Z
UID:10005214-1718103600-1718109000@stowemission.org
SUMMARY:Community Kitchen
DESCRIPTION:Join us Monday – Friday every week from 11 – 12:30 pm. Enter on the south side of the building at the Community Kitchen door. \nBesides a nutritious lunch\, the Community Kitchen provides a warm and safe gathering environment. Many of our neighbors have no family connections\, and the dining room is a place to develop friendships and fulfill physical and social needs.
URL:https://stowemission.org/event/free-daily-lunch-2-2/2024-06-11/
LOCATION:Stowe Mission\, 888 Parsons Avenue\, Columbus\, OH\, 43206\, United States
CATEGORIES:Featured,Home,Hunger
ATTACH;FMTTYPE=image/jpeg:https://stowemission.org/wp-content/uploads/2022/11/StoweMissionCommunityKitchenFreeLunch.jpg
END:VEVENT
BEGIN:VEVENT
DTSTART;TZID=America/Detroit:20240610T110000
DTEND;TZID=America/Detroit:20240610T123000
DTSTAMP:20260424T003809
CREATED:20240121T193827Z
LAST-MODIFIED:20240121T193841Z
UID:10005213-1718017200-1718022600@stowemission.org
SUMMARY:Community Kitchen
DESCRIPTION:Join us Monday – Friday every week from 11 – 12:30 pm. Enter on the south side of the building at the Community Kitchen door. \nBesides a nutritious lunch\, the Community Kitchen provides a warm and safe gathering environment. Many of our neighbors have no family connections\, and the dining room is a place to develop friendships and fulfill physical and social needs.
URL:https://stowemission.org/event/free-daily-lunch-2-2/2024-06-10/
LOCATION:Stowe Mission\, 888 Parsons Avenue\, Columbus\, OH\, 43206\, United States
CATEGORIES:Featured,Home,Hunger
ATTACH;FMTTYPE=image/jpeg:https://stowemission.org/wp-content/uploads/2022/11/StoweMissionCommunityKitchenFreeLunch.jpg
END:VEVENT
BEGIN:VEVENT
DTSTART;TZID=America/Detroit:20240607T110000
DTEND;TZID=America/Detroit:20240607T123000
DTSTAMP:20260424T003809
CREATED:20240121T193827Z
LAST-MODIFIED:20240121T193841Z
UID:10005212-1717758000-1717763400@stowemission.org
SUMMARY:Community Kitchen
DESCRIPTION:Join us Monday – Friday every week from 11 – 12:30 pm. Enter on the south side of the building at the Community Kitchen door. \nBesides a nutritious lunch\, the Community Kitchen provides a warm and safe gathering environment. Many of our neighbors have no family connections\, and the dining room is a place to develop friendships and fulfill physical and social needs.
URL:https://stowemission.org/event/free-daily-lunch-2-2/2024-06-07/
LOCATION:Stowe Mission\, 888 Parsons Avenue\, Columbus\, OH\, 43206\, United States
CATEGORIES:Featured,Home,Hunger
ATTACH;FMTTYPE=image/jpeg:https://stowemission.org/wp-content/uploads/2022/11/StoweMissionCommunityKitchenFreeLunch.jpg
END:VEVENT
BEGIN:VEVENT
DTSTART;TZID=America/Detroit:20240606T110000
DTEND;TZID=America/Detroit:20240606T123000
DTSTAMP:20260424T003809
CREATED:20240121T193827Z
LAST-MODIFIED:20240121T193841Z
UID:10005211-1717671600-1717677000@stowemission.org
SUMMARY:Community Kitchen
DESCRIPTION:Join us Monday – Friday every week from 11 – 12:30 pm. Enter on the south side of the building at the Community Kitchen door. \nBesides a nutritious lunch\, the Community Kitchen provides a warm and safe gathering environment. Many of our neighbors have no family connections\, and the dining room is a place to develop friendships and fulfill physical and social needs.
URL:https://stowemission.org/event/free-daily-lunch-2-2/2024-06-06/
LOCATION:Stowe Mission\, 888 Parsons Avenue\, Columbus\, OH\, 43206\, United States
CATEGORIES:Featured,Home,Hunger
ATTACH;FMTTYPE=image/jpeg:https://stowemission.org/wp-content/uploads/2022/11/StoweMissionCommunityKitchenFreeLunch.jpg
END:VEVENT
BEGIN:VEVENT
DTSTART;TZID=America/Detroit:20240605T110000
DTEND;TZID=America/Detroit:20240605T123000
DTSTAMP:20260424T003809
CREATED:20240121T193827Z
LAST-MODIFIED:20240121T193841Z
UID:10005210-1717585200-1717590600@stowemission.org
SUMMARY:Community Kitchen
DESCRIPTION:Join us Monday – Friday every week from 11 – 12:30 pm. Enter on the south side of the building at the Community Kitchen door. \nBesides a nutritious lunch\, the Community Kitchen provides a warm and safe gathering environment. Many of our neighbors have no family connections\, and the dining room is a place to develop friendships and fulfill physical and social needs.
URL:https://stowemission.org/event/free-daily-lunch-2-2/2024-06-05/
LOCATION:Stowe Mission\, 888 Parsons Avenue\, Columbus\, OH\, 43206\, United States
CATEGORIES:Featured,Home,Hunger
ATTACH;FMTTYPE=image/jpeg:https://stowemission.org/wp-content/uploads/2022/11/StoweMissionCommunityKitchenFreeLunch.jpg
END:VEVENT
BEGIN:VEVENT
DTSTART;TZID=America/Detroit:20240604T110000
DTEND;TZID=America/Detroit:20240604T123000
DTSTAMP:20260424T003810
CREATED:20240121T193827Z
LAST-MODIFIED:20240121T193841Z
UID:10005209-1717498800-1717504200@stowemission.org
SUMMARY:Community Kitchen
DESCRIPTION:Join us Monday – Friday every week from 11 – 12:30 pm. Enter on the south side of the building at the Community Kitchen door. \nBesides a nutritious lunch\, the Community Kitchen provides a warm and safe gathering environment. Many of our neighbors have no family connections\, and the dining room is a place to develop friendships and fulfill physical and social needs.
URL:https://stowemission.org/event/free-daily-lunch-2-2/2024-06-04/
LOCATION:Stowe Mission\, 888 Parsons Avenue\, Columbus\, OH\, 43206\, United States
CATEGORIES:Featured,Home,Hunger
ATTACH;FMTTYPE=image/jpeg:https://stowemission.org/wp-content/uploads/2022/11/StoweMissionCommunityKitchenFreeLunch.jpg
END:VEVENT
BEGIN:VEVENT
DTSTART;TZID=America/Detroit:20240603T110000
DTEND;TZID=America/Detroit:20240603T123000
DTSTAMP:20260424T003810
CREATED:20240121T193827Z
LAST-MODIFIED:20240121T193841Z
UID:10005208-1717412400-1717417800@stowemission.org
SUMMARY:Community Kitchen
DESCRIPTION:Join us Monday – Friday every week from 11 – 12:30 pm. Enter on the south side of the building at the Community Kitchen door. \nBesides a nutritious lunch\, the Community Kitchen provides a warm and safe gathering environment. Many of our neighbors have no family connections\, and the dining room is a place to develop friendships and fulfill physical and social needs.
URL:https://stowemission.org/event/free-daily-lunch-2-2/2024-06-03/
LOCATION:Stowe Mission\, 888 Parsons Avenue\, Columbus\, OH\, 43206\, United States
CATEGORIES:Featured,Home,Hunger
ATTACH;FMTTYPE=image/jpeg:https://stowemission.org/wp-content/uploads/2022/11/StoweMissionCommunityKitchenFreeLunch.jpg
END:VEVENT
BEGIN:VEVENT
DTSTART;TZID=America/Detroit:20240531T110000
DTEND;TZID=America/Detroit:20240531T123000
DTSTAMP:20260424T003810
CREATED:20240121T193827Z
LAST-MODIFIED:20240121T193841Z
UID:10005207-1717153200-1717158600@stowemission.org
SUMMARY:Community Kitchen
DESCRIPTION:Join us Monday – Friday every week from 11 – 12:30 pm. Enter on the south side of the building at the Community Kitchen door. \nBesides a nutritious lunch\, the Community Kitchen provides a warm and safe gathering environment. Many of our neighbors have no family connections\, and the dining room is a place to develop friendships and fulfill physical and social needs.
URL:https://stowemission.org/event/free-daily-lunch-2-2/2024-05-31/
LOCATION:Stowe Mission\, 888 Parsons Avenue\, Columbus\, OH\, 43206\, United States
CATEGORIES:Featured,Home,Hunger
ATTACH;FMTTYPE=image/jpeg:https://stowemission.org/wp-content/uploads/2022/11/StoweMissionCommunityKitchenFreeLunch.jpg
END:VEVENT
END:VCALENDAR